BEGIN:VCALENDAR
VERSION:2.0
PRODID:-//Arlington/Roe - ECPv6.15.20//NONSGML v1.0//EN
CALSCALE:GREGORIAN
METHOD:PUBLISH
X-WR-CALNAME:Arlington/Roe
X-ORIGINAL-URL:https://arlingtonroe.com
X-WR-CALDESC:Events for Arlington/Roe
REFRESH-INTERVAL;VALUE=DURATION:PT1H
X-Robots-Tag:noindex
X-PUBLISHED-TTL:PT1H
BEGIN:VTIMEZONE
TZID:America/Indiana/Indianapolis
BEGIN:DAYLIGHT
TZOFFSETFROM:-0500
TZOFFSETTO:-0400
TZNAME:EDT
DTSTART:20210314T070000
END:DAYLIGHT
BEGIN:STANDARD
TZOFFSETFROM:-0400
TZOFFSETTO:-0500
TZNAME:EST
DTSTART:20211107T060000
END:STANDARD
BEGIN:DAYLIGHT
TZOFFSETFROM:-0500
TZOFFSETTO:-0400
TZNAME:EDT
DTSTART:20220313T070000
END:DAYLIGHT
BEGIN:STANDARD
TZOFFSETFROM:-0400
TZOFFSETTO:-0500
TZNAME:EST
DTSTART:20221106T060000
END:STANDARD
BEGIN:DAYLIGHT
TZOFFSETFROM:-0500
TZOFFSETTO:-0400
TZNAME:EDT
DTSTART:20230312T070000
END:DAYLIGHT
BEGIN:STANDARD
TZOFFSETFROM:-0400
TZOFFSETTO:-0500
TZNAME:EST
DTSTART:20231105T060000
END:STANDARD
BEGIN:DAYLIGHT
TZOFFSETFROM:-0500
TZOFFSETTO:-0400
TZNAME:EDT
DTSTART:20240310T070000
END:DAYLIGHT
BEGIN:STANDARD
TZOFFSETFROM:-0400
TZOFFSETTO:-0500
TZNAME:EST
DTSTART:20241103T060000
END:STANDARD
END:VTIMEZONE
BEGIN:VTIMEZONE
TZID:America/New_York
BEGIN:DAYLIGHT
TZOFFSETFROM:-0500
TZOFFSETTO:-0400
TZNAME:EDT
DTSTART:20220313T070000
END:DAYLIGHT
BEGIN:STANDARD
TZOFFSETFROM:-0400
TZOFFSETTO:-0500
TZNAME:EST
DTSTART:20221106T060000
END:STANDARD
BEGIN:DAYLIGHT
TZOFFSETFROM:-0500
TZOFFSETTO:-0400
TZNAME:EDT
DTSTART:20230312T070000
END:DAYLIGHT
BEGIN:STANDARD
TZOFFSETFROM:-0400
TZOFFSETTO:-0500
TZNAME:EST
DTSTART:20231105T060000
END:STANDARD
BEGIN:DAYLIGHT
TZOFFSETFROM:-0500
TZOFFSETTO:-0400
TZNAME:EDT
DTSTART:20240310T070000
END:DAYLIGHT
BEGIN:STANDARD
TZOFFSETFROM:-0400
TZOFFSETTO:-0500
TZNAME:EST
DTSTART:20241103T060000
END:STANDARD
END:VTIMEZONE
BEGIN:VTIMEZONE
TZID:UTC
BEGIN:STANDARD
TZOFFSETFROM:+0000
TZOFFSETTO:+0000
TZNAME:UTC
DTSTART:20210101T000000
END:STANDARD
END:VTIMEZONE
BEGIN:VEVENT
DTSTART;TZID=America/Indiana/Indianapolis:20230606T100000
DTEND;TZID=America/Indiana/Indianapolis:20230606T110000
DTSTAMP:20260423T055128
CREATED:20230206T193011Z
LAST-MODIFIED:20230206T193011Z
UID:10000052-1686045600-1686049200@arlingtonroe.com
SUMMARY:American Modern Homeowners FLEX
DESCRIPTION:The Homeowners Flex provides open peril coverage on dwellings and other structures with Replacement Cost loss settlement\, Modified Functional Replacement Cost and ACV loss settlement options. The product will allow you to customize coverage (Flex) for your customers; even those who have age of home\, claims and location concerns. \nThere’s a lot more to learn about Homeowners Flex\, so join Arlington/Roe and American Modern as we partner to bring you a Homeowners Flex Underwriting Training webinar. \nRegister here.
URL:https://arlingtonroe.com/event/american-modern-homeowners-flex-3/
CATEGORIES:Personal Lines
END:VEVENT
BEGIN:VEVENT
DTSTART;TZID=America/Indiana/Indianapolis:20230601T140000
DTEND;TZID=America/Indiana/Indianapolis:20230601T150000
DTSTAMP:20260423T055128
CREATED:20230206T192841Z
LAST-MODIFIED:20230206T192841Z
UID:10000051-1685628000-1685631600@arlingtonroe.com
SUMMARY:American Modern Homeowners FLEX
DESCRIPTION:The Homeowners Flex provides open peril coverage on dwellings and other structures with Replacement Cost loss settlement\, Modified Functional Replacement Cost and ACV loss settlement options. The product will allow you to customize coverage (Flex) for your customers; even those who have age of home\, claims and location concerns. \nThere’s a lot more to learn about Homeowners Flex\, so join Arlington/Roe and American Modern as we partner to bring you a Homeowners Flex Underwriting Training webinar. \nRegister here.
URL:https://arlingtonroe.com/event/american-modern-homeowners-flex-2/
CATEGORIES:Personal Lines
LOCATION:
END:VEVENT
BEGIN:VEVENT
DTSTART;TZID=America/Indiana/Indianapolis:20230504T140000
DTEND;TZID=America/Indiana/Indianapolis:20230504T150000
DTSTAMP:20260423T055128
CREATED:20230206T192632Z
LAST-MODIFIED:20230206T192632Z
UID:10000050-1683208800-1683212400@arlingtonroe.com
SUMMARY:American Modern Dwelling & Unique Risks
DESCRIPTION:Arlington/Roe’s valued partnership with American Modern includes the added bonus of having great training resources available. This allows us to share important product information and training with our agents. Our training webinars will help you to use American Modern’s Dwelling Programs to cover risks that present additional exposures for your customers. \nThis webinar will provide an overview of the AMsuite Dwelling Special and Dwelling Basic Programs and how to process that business in AMsuite. Join us to learn how you can create more opportunities for your agency while providing coverage solutions for your customers. \nRegister here.
URL:https://arlingtonroe.com/event/american-modern-dwelling-unique-risks-2/
CATEGORIES:Personal Lines
END:VEVENT
BEGIN:VEVENT
DTSTART;TZID=America/Indiana/Indianapolis:20230502T100000
DTEND;TZID=America/Indiana/Indianapolis:20230502T110000
DTSTAMP:20260423T055128
CREATED:20230206T222827Z
LAST-MODIFIED:20230206T222827Z
UID:10000067-1683021600-1683025200@arlingtonroe.com
SUMMARY:American Modern Dwelling & Unique Risks
DESCRIPTION:Arlington/Roe’s valued partnership with American Modern includes the added bonus of having great training resources available. This allows us to share important product information and training with our agents. Our training webinars will help you to use American Modern’s Dwelling Programs to cover risks that present additional exposures for your customers. \nThis webinar will provide an overview of the AMsuite Dwelling Special and Dwelling Basic Programs and how to process that business in AMsuite. Join us to learn how you can create more opportunities for your agency while providing coverage solutions for your customers. \nRegister here.
URL:https://arlingtonroe.com/event/american-modern-dwelling-unique-risks-5/
CATEGORIES:Personal Lines
LOCATION:
END:VEVENT
BEGIN:VEVENT
DTSTART;TZID=America/Indiana/Indianapolis:20230428T110000
DTEND;TZID=America/Indiana/Indianapolis:20230428T113000
DTSTAMP:20260423T055128
CREATED:20230406T125944Z
LAST-MODIFIED:20230406T125944Z
UID:10000073-1682679600-1682681400@arlingtonroe.com
SUMMARY:NEW Web Quoting Platform with Arlington / Roe & USLI!
DESCRIPTION:Arlington/Roe is excited to announce that quoting USLI business online is about to get even better! Join us for a short live webinar event to learn the tips and tricks of the new web quoting platform and familiarize yourself with how to quote with us! \nRegister here.
URL:https://arlingtonroe.com/event/new-web-quoting-platform-with-arlington-roe-usli-3/
CATEGORIES:Casualty,Property
END:VEVENT
BEGIN:VEVENT
DTSTART;TZID=America/Indiana/Indianapolis:20230420T110000
DTEND;TZID=America/Indiana/Indianapolis:20230420T113000
DTSTAMP:20260423T055128
CREATED:20230316T124012Z
LAST-MODIFIED:20230316T124122Z
UID:10000070-1681988400-1681990200@arlingtonroe.com
SUMMARY:USLI All Sorts of Sports
DESCRIPTION:Now is the best time to go after sports organizations\, leagues\, clinics and camp submissions. Join us to learn what are the trending classes and coverages to look for\, and how easy they are to quote via phone and web. \nJoin us for this co-hosted webinar with USLI to learn more about how we can help you with your local sports risks. This 30-minute session will also include a demo of the Instant Quote system. \nRegister here.
URL:https://arlingtonroe.com/event/usli-all-sorts-of-sports/
CATEGORIES:Casualty
LOCATION:
END:VEVENT
BEGIN:VEVENT
DTSTART;TZID=America/Indiana/Indianapolis:20230419T143000
DTEND;TZID=America/Indiana/Indianapolis:20230419T150000
DTSTAMP:20260423T055128
CREATED:20230406T125758Z
LAST-MODIFIED:20230406T125758Z
UID:10000072-1681914600-1681916400@arlingtonroe.com
SUMMARY:NEW Web Quoting Platform with Arlington / Roe & USLI!
DESCRIPTION:Arlington/Roe is excited to announce that quoting USLI business online is about to get even better! Join us for a short live webinar event to learn the tips and tricks of the new web quoting platform and familiarize yourself with how to quote with us! \nRegister here.
URL:https://arlingtonroe.com/event/new-web-quoting-platform-with-arlington-roe-usli-2/
CATEGORIES:Casualty,Property
END:VEVENT
BEGIN:VEVENT
DTSTART;TZID=America/Indiana/Indianapolis:20230419T103000
DTEND;TZID=America/Indiana/Indianapolis:20230419T110000
DTSTAMP:20260423T055128
CREATED:20230406T125518Z
LAST-MODIFIED:20230406T125518Z
UID:10000071-1681900200-1681902000@arlingtonroe.com
SUMMARY:NEW Web Quoting Platform with Arlington / Roe & USLI
DESCRIPTION:Arlington / Roe is excited to announce that quoting USLI business online is about to get even better! Join us for a short live webinar event to get a sneak peek of the new USLI web portal so that you are ready to quote business when it goes live on our website. \nRegister Here.
URL:https://arlingtonroe.com/event/new-web-quoting-platform-with-arlington-roe-usli/
CATEGORIES:Casualty,Property
END:VEVENT
BEGIN:VEVENT
DTSTART;TZID=America/New_York:20230418T110000
DTEND;TZID=America/New_York:20230418T114500
DTSTAMP:20260423T055128
CREATED:20230301T191425Z
LAST-MODIFIED:20230301T195538Z
UID:10000069-1681815600-1681818300@arlingtonroe.com
SUMMARY:Hiscox Real Estate Developers and Architects & Engineers E&O
DESCRIPTION:Hiscox has 15+ years of experience writing real estate developers and is a leading market in that space. They just released a new form with several enhancements. The purpose of this webinar is to discuss the exposures real estate developers have\, how Hiscox’s coverage responds\, as well as other classes of business in the A&E space you may run into. Please join us for this informative session! \nRegister here.
URL:https://arlingtonroe.com/event/hiscox-real-estate-developers-and-architects-engineers-eo/
CATEGORIES:Professional Liability
LOCATION:
END:VEVENT
BEGIN:VEVENT
DTSTART;TZID=America/Indiana/Indianapolis:20230406T140000
DTEND;TZID=America/Indiana/Indianapolis:20230406T150000
DTSTAMP:20260423T055128
CREATED:20230206T192053Z
LAST-MODIFIED:20230206T211830Z
UID:10000048-1680789600-1680793200@arlingtonroe.com
SUMMARY:American Modern Collector Vehicle & Motorsports
DESCRIPTION:Soon\, your customers will be revving up the engines of their motorcycles\, ATVs\, collector cars\, boats and more! We want to help you become an expert in helping your customers cover their “toys.” Once again\, Arlington/Roe has partnered with American Modern to provide new webinar sessions for our agency partners. The sessions are led by an American Modern training specialist with Arlington/Roe staff participation and will provide a live platform for training. This means you can submit questions to the training specialist or Arlington/Roe staff during the session for more focused information. \nRegister here.
URL:https://arlingtonroe.com/event/american-modern-collector-vehicle-motorsport-2/
CATEGORIES:Personal Lines
LOCATION:
END:VEVENT
BEGIN:VEVENT
DTSTART;TZID=America/Indiana/Indianapolis:20230404T100000
DTEND;TZID=America/Indiana/Indianapolis:20230404T110000
DTSTAMP:20260423T055128
CREATED:20230206T191904Z
LAST-MODIFIED:20230206T211858Z
UID:10000047-1680602400-1680606000@arlingtonroe.com
SUMMARY:American Modern Collector Vehicle & Motorsports
DESCRIPTION:Soon\, your customers will be revving up the engines of their motorcycles\, ATVs\, collector cars\, boats and more! We want to help you become an expert in helping your customers cover their “toys.” Once again\, Arlington/Roe has partnered with American Modern to provide new webinar sessions for our agency partners. The sessions are led by an American Modern training specialist with Arlington/Roe staff participation and will provide a live platform for training. This means you can submit questions to the training specialist or Arlington/Roe staff during the session for more focused information. \nRegister here.
URL:https://arlingtonroe.com/event/american-modern-collector-vehicle-motorsport/
CATEGORIES:Personal Lines
LOCATION:
END:VEVENT
BEGIN:VEVENT
DTSTART;TZID=America/Indiana/Indianapolis:20230322T140000
DTEND;TZID=America/Indiana/Indianapolis:20230322T150000
DTSTAMP:20260423T055128
CREATED:20230206T191520Z
LAST-MODIFIED:20230206T222130Z
UID:10000046-1679493600-1679497200@arlingtonroe.com
SUMMARY:American Modern TRIVIA!
DESCRIPTION:AMIG TRIVIA!! Come for a quick game of trivia while learning about the various risks American Modern will write. A fun and exciting way to learn! \nRegister here.
URL:https://arlingtonroe.com/event/american-modern-insurance-group-trivia/
CATEGORIES:Personal Lines
LOCATION:
END:VEVENT
BEGIN:VEVENT
DTSTART;TZID=America/Indiana/Indianapolis:20230315T100000
DTEND;TZID=America/Indiana/Indianapolis:20230315T110000
DTSTAMP:20260423T055128
CREATED:20230206T191315Z
LAST-MODIFIED:20230206T191315Z
UID:10000045-1678874400-1678878000@arlingtonroe.com
SUMMARY:AMIG Bootcamp
DESCRIPTION:This Bootcamp training can help you get acquainted with American Modern’s system and get comfortable quoting. This webinar will provide an overview of American Modern Insurance Group\, the programs you have available\, and other features and benefits of doing business with American Modern. \nRegister here.
URL:https://arlingtonroe.com/event/amig-bootcamp/
CATEGORIES:Personal Lines
LOCATION:
END:VEVENT
BEGIN:VEVENT
DTSTART;TZID=America/Indiana/Indianapolis:20230309T140000
DTEND;TZID=America/Indiana/Indianapolis:20230309T150000
DTSTAMP:20260423T055128
CREATED:20230125T141910Z
LAST-MODIFIED:20230201T143451Z
UID:10000002-1678370400-1678374000@arlingtonroe.com
SUMMARY:American Reliable Equine Program
DESCRIPTION:Join your Arlington/Roe team to learn more about American Reliable’s Equine program!\n\nRegister here.
URL:https://arlingtonroe.com/event/american-reliable-equine-program/
CATEGORIES:Farm
LOCATION:https://arlingtonroe.com/event/american-reliable-equine-program/
END:VEVENT
BEGIN:VEVENT
DTSTART;TZID=America/Indiana/Indianapolis:20230309T110000
DTEND;TZID=America/Indiana/Indianapolis:20230309T113000
DTSTAMP:20260423T055128
CREATED:20230220T220136Z
LAST-MODIFIED:20230220T221411Z
UID:10000068-1678359600-1678361400@arlingtonroe.com
SUMMARY:USLI Liquor Liability Solutions
DESCRIPTION:Hospitality Liquor Product: Everyone thinks of bar and restaurants for liquor liability insurance but what other accounts do you write that have an exposure? We will discuss liquor liability options for liquor stores\, caterers\, bartending services\, special events and beyond. \nRegister here.
URL:https://arlingtonroe.com/event/usli-liquor-liability-solutions/
CATEGORIES:Casualty
LOCATION:
END:VEVENT
BEGIN:VEVENT
DTSTART;TZID=America/Indiana/Indianapolis:20230307T100000
DTEND;TZID=America/Indiana/Indianapolis:20230307T110000
DTSTAMP:20260423T055128
CREATED:20230206T185443Z
LAST-MODIFIED:20230206T202810Z
UID:10000044-1678183200-1678186800@arlingtonroe.com
SUMMARY:American Modern Boat & Yacht
DESCRIPTION:These days\, everyone is ready to get outside and enjoy the warmer weather that comes with spring. Soon\, your customers will be starting up their boats and hitting the water! Learn about insuring vessels up to 26 feet in length in the Boat program\, and larger vessels in the Yacht program. Most boat types are eligible\, including antiques and personal watercraft. \nOnce again\, Arlington/Roe has partnered with American Modern to provide new webinar sessions for our agency partners. The sessions are led by an American Modern training specialist with Arlington/Roe staff participation and will provide a live platform for training. This means you can submit questions to the training specialist or Arlington/Roe staff during the session for more focused information. \n\n\nRegister here.
URL:https://arlingtonroe.com/event/boat-yacht-2/
CATEGORIES:Personal Lines
END:VEVENT
BEGIN:VEVENT
DTSTART;TZID=America/Indiana/Indianapolis:20230302T140000
DTEND;TZID=America/Indiana/Indianapolis:20230302T150000
DTSTAMP:20260423T055128
CREATED:20230206T185302Z
LAST-MODIFIED:20230206T211522Z
UID:10000043-1677765600-1677769200@arlingtonroe.com
SUMMARY:American Modern Boat & Yacht
DESCRIPTION:These days\, everyone is ready to get outside and enjoy the warmer weather that comes with spring. Soon\, your customers will be starting up their boats and hitting the water! Learn about insuring vessels up to 26 feet in length in the Boat program\, and larger vessels in the Yacht program. Most boat types are eligible\, including antiques and personal watercraft. \nOnce again\, Arlington/Roe has partnered with American Modern to provide new webinar sessions for our agency partners. The sessions are led by an American Modern training specialist with Arlington/Roe staff participation and will provide a live platform for training. This means you can submit questions to the training specialist or Arlington/Roe staff during the session for more focused information. \n\n\nRegister here.
URL:https://arlingtonroe.com/event/boat-yacht/
CATEGORIES:Personal Lines
END:VEVENT
BEGIN:VEVENT
DTSTART;TZID=America/Indiana/Indianapolis:20230228T130000
DTEND;TZID=America/Indiana/Indianapolis:20230228T140000
DTSTAMP:20260423T055128
CREATED:20230125T141514Z
LAST-MODIFIED:20230228T155149Z
UID:10000001-1677589200-1677592800@arlingtonroe.com
SUMMARY:American Reliable Farm Appetite
DESCRIPTION:Join your Arlington/Roe team to learn more about American Reliable’s Appetite for your Farm\, Ranch\, and Equine business. \nRegister here.
URL:https://arlingtonroe.com/event/american-reliable-appetite/
CATEGORIES:Farm
LOCATION:https://arlingtonroe.com/event/american-reliable-appetite/
END:VEVENT
BEGIN:VEVENT
DTSTART;TZID=America/Indiana/Indianapolis:20230216T140000
DTEND;TZID=America/Indiana/Indianapolis:20230216T150000
DTSTAMP:20260423T055128
CREATED:20230201T140147Z
LAST-MODIFIED:20230201T191819Z
UID:10000005-1676556000-1676559600@arlingtonroe.com
SUMMARY:American Modern Manufactured Home
DESCRIPTION:This webinar will provide a comprehensive overview of American Modern’s Manufactured Home program and how to write this type of business. \nRegister here.
URL:https://arlingtonroe.com/event/american-modern-manufactured-home-6/
CATEGORIES:Personal Lines
LOCATION:
END:VEVENT
BEGIN:VEVENT
DTSTART;TZID=America/Indiana/Indianapolis:20230214T100000
DTEND;TZID=America/Indiana/Indianapolis:20230214T110000
DTSTAMP:20260423T055128
CREATED:20230201T135536Z
LAST-MODIFIED:20230201T191900Z
UID:10000004-1676368800-1676372400@arlingtonroe.com
SUMMARY:American Modern Manufactured Home
DESCRIPTION:This webinar will provide a comprehensive overview of American Modern’s Manufactured Home program and how to write this type of business. \nRegister here.
URL:https://arlingtonroe.com/event/american-modern-manufactured-home-5/
CATEGORIES:Personal Lines
LOCATION:
END:VEVENT
BEGIN:VEVENT
DTSTART;TZID=America/Indiana/Indianapolis:20230208T110000
DTEND;TZID=America/Indiana/Indianapolis:20230208T113000
DTSTAMP:20260423T055128
CREATED:20230125T161002Z
LAST-MODIFIED:20230201T191942Z
UID:10000003-1675854000-1675855800@arlingtonroe.com
SUMMARY:Personal Liability Solutions in Demand
DESCRIPTION:The USLI Personal Lines team will focus on Umbrella\, CPL & Excess options\, with a demo of the Instant Quote\, IQ\, process. \nRegister here.
URL:https://arlingtonroe.com/event/personal-liability-solutions-in-demand/
CATEGORIES:Personal Lines
LOCATION:https://arlingtonroe.com/event/personal-liability-solutions-in-demand/
END:VEVENT
BEGIN:VEVENT
DTSTART;TZID=America/Indiana/Indianapolis:20230206T100000
DTEND;TZID=America/Indiana/Indianapolis:20230206T110000
DTSTAMP:20260423T055128
CREATED:20230206T192507Z
LAST-MODIFIED:20230206T192507Z
UID:10000049-1675677600-1675681200@arlingtonroe.com
SUMMARY:American Modern Dwelling & Unique Risks
DESCRIPTION:Arlington/Roe’s valued partnership with American Modern includes the added bonus of having great training resources available. This allows us to share important product information and training with our agents. Our training webinars will help you to use American Modern’s Dwelling Programs to cover risks that present additional exposures for your customers. \nThis webinar will provide an overview of the AMsuite Dwelling Special and Dwelling Basic Programs and how to process that business in AMsuite. Join us to learn how you can create more opportunities for your agency while providing coverage solutions for your customers. \nRegister here.
URL:https://arlingtonroe.com/event/american-modern-dwelling-unique-risks/
CATEGORIES:Personal Lines
END:VEVENT
BEGIN:VEVENT
DTSTART;TZID=UTC:20221103T140000
DTEND;TZID=UTC:20221103T150000
DTSTAMP:20260423T055128
CREATED:20220303T135019Z
LAST-MODIFIED:20220329T125947Z
UID:10000014-1667484000-1667487600@arlingtonroe.com
SUMMARY:American Modern Advanced AMsuite & AMsuite vs. Core
DESCRIPTION:This training will provide an overview of the advanced features of AMsuite. This training will provide an overview of the differences and advantages of AMsuite and AMsuite Core. \nRegister here
URL:https://arlingtonroe.com/event/american-modern-advanced-amsuite-amsuite-vs-core-4/
CATEGORIES:Personal Lines
LOCATION:https://arlingtonroe.com/event/american-modern-advanced-amsuite-amsuite-vs-core-4/
END:VEVENT
BEGIN:VEVENT
DTSTART;TZID=America/Indiana/Indianapolis:20221103T110000
DTEND;TZID=America/Indiana/Indianapolis:20221103T113000
DTSTAMP:20260423T055128
CREATED:20221012T152728Z
LAST-MODIFIED:20230202T171829Z
UID:10000008-1667473200-1667475000@arlingtonroe.com
SUMMARY:USLI: Home for the Holidays - Home-Based Businesses & Concessional Vendor Product Overview
DESCRIPTION:Two out of every three people who run a business or hobby out of the home do NOT have adequate insurance. Most homeowners policies are not designed to cover common losses from most businesses. USLI’s Home-Based Business policy can provide insureds with the right coverage. \nJoin us for a webinar featuring the In-Home Business Product. Learn how easy it is to quote\, pay and bind with Arlington/Roe and USLI with Instant Quote. \nRegister here
URL:https://arlingtonroe.com/event/usli-home-for-the-holidays-home-based-businesses-concessional-vendor-product-overview/
CATEGORIES:Personal Lines
LOCATION:
END:VEVENT
BEGIN:VEVENT
DTSTART;TZID=UTC:20221101T100000
DTEND;TZID=UTC:20221101T110000
DTSTAMP:20260423T055128
CREATED:20220303T134839Z
LAST-MODIFIED:20220329T130108Z
UID:10000013-1667296800-1667300400@arlingtonroe.com
SUMMARY:American Modern Advanced AMsuite & AMsuite vs. Core
DESCRIPTION:This training will provide an overview of the advanced features of AMsuite. This training will provide an overview of the differences and advantages of AMsuite and AMsuite Core. \nRegister Here
URL:https://arlingtonroe.com/event/american-modern-advanced-amsuite-amsuite-vs-core-3/
CATEGORIES:Personal Lines
LOCATION:https://arlingtonroe.com/event/american-modern-advanced-amsuite-amsuite-vs-core-3/
END:VEVENT
BEGIN:VEVENT
DTSTART;TZID=UTC:20221006T140000
DTEND;TZID=UTC:20221006T150000
DTSTAMP:20260423T055128
CREATED:20220303T134633Z
LAST-MODIFIED:20220329T130214Z
UID:10000015-1665064800-1665068400@arlingtonroe.com
SUMMARY:American Modern Manufactured Home
DESCRIPTION:This webinar will provide an overview of the AMsuite Manufactured Home Program and how to process that business in AMsuite \nRegister Here
URL:https://arlingtonroe.com/event/american-modern-manufactured-home-4/
CATEGORIES:Personal Lines
LOCATION:https://arlingtonroe.com/event/american-modern-manufactured-home-4/
END:VEVENT
BEGIN:VEVENT
DTSTART;TZID=UTC:20221004T100000
DTEND;TZID=UTC:20221004T110000
DTSTAMP:20260423T055128
CREATED:20220303T134541Z
LAST-MODIFIED:20220329T145957Z
UID:10000017-1664877600-1664881200@arlingtonroe.com
SUMMARY:American Modern Manufactured Home
DESCRIPTION:This webinar will provide an overview of the AMsuite Manufactured Home Program and how to process that business in AMsuite. \nRegister Here
URL:https://arlingtonroe.com/event/american-modern-manufactured-home-3/
CATEGORIES:Personal Lines
LOCATION:
END:VEVENT
BEGIN:VEVENT
DTSTART;TZID=UTC:20220927T110000
DTEND;TZID=UTC:20220927T113000
DTSTAMP:20260423T055128
CREATED:20220830T133829Z
LAST-MODIFIED:20220830T133908Z
UID:10000007-1664276400-1664278200@arlingtonroe.com
SUMMARY:USLI: Special Events Made Easy
DESCRIPTION:Join us for a webinar featuring the Special Event Product. Learn how easy it is to quote\, pay and bind special event business with Arlington/Roe and USLI. We will share current industry trends and coverage information as well. \nRegister Here
URL:https://arlingtonroe.com/event/usli-special-event-product/
CATEGORIES:Casualty
LOCATION:
END:VEVENT
BEGIN:VEVENT
DTSTART;TZID=UTC:20220921T100000
DTEND;TZID=UTC:20220921T110000
DTSTAMP:20260423T055128
CREATED:20220808T135616Z
LAST-MODIFIED:20220808T135616Z
UID:10000006-1663754400-1663758000@arlingtonroe.com
SUMMARY:American Modern Bootcamp - For New and Existing Users
DESCRIPTION:This webinar will provide an overview of American Modern Insurance Group\, the programs you have available\, and other features and benefits of doing business with American Modern. \nRegister Here
URL:https://arlingtonroe.com/event/american-modern-bootcamp-for-new-and-existing-users-3/
CATEGORIES:Personal Lines
LOCATION:
END:VEVENT
BEGIN:VEVENT
DTSTART;TZID=UTC:20220915T140000
DTEND;TZID=UTC:20220915T150000
DTSTAMP:20260423T055128
CREATED:20220303T134424Z
LAST-MODIFIED:20220329T130512Z
UID:10000016-1663250400-1663254000@arlingtonroe.com
SUMMARY:American Modern Dwelling
DESCRIPTION:This webinar will provide an overview of the AMsuite Dwelling Special and Dwelling Basic Programs and how to process that business in AMsuite. \nRegister Here
URL:https://arlingtonroe.com/event/american-modern-dwelling-4/
CATEGORIES:Personal Lines
LOCATION:https://arlingtonroe.com/event/american-modern-dwelling-4/
END:VEVENT
END:VCALENDAR