BEGIN:VCALENDAR
VERSION:2.0
PRODID:-//Arlington/Roe - ECPv6.15.20//NONSGML v1.0//EN
CALSCALE:GREGORIAN
METHOD:PUBLISH
X-WR-CALNAME:Arlington/Roe
X-ORIGINAL-URL:https://arlingtonroe.com
X-WR-CALDESC:Events for Arlington/Roe
REFRESH-INTERVAL;VALUE=DURATION:PT1H
X-Robots-Tag:noindex
X-PUBLISHED-TTL:PT1H
BEGIN:VTIMEZONE
TZID:America/Indiana/Indianapolis
BEGIN:DAYLIGHT
TZOFFSETFROM:-0500
TZOFFSETTO:-0400
TZNAME:EDT
DTSTART:20240310T070000
END:DAYLIGHT
BEGIN:STANDARD
TZOFFSETFROM:-0400
TZOFFSETTO:-0500
TZNAME:EST
DTSTART:20241103T060000
END:STANDARD
BEGIN:DAYLIGHT
TZOFFSETFROM:-0500
TZOFFSETTO:-0400
TZNAME:EDT
DTSTART:20250309T070000
END:DAYLIGHT
BEGIN:STANDARD
TZOFFSETFROM:-0400
TZOFFSETTO:-0500
TZNAME:EST
DTSTART:20251102T060000
END:STANDARD
BEGIN:DAYLIGHT
TZOFFSETFROM:-0500
TZOFFSETTO:-0400
TZNAME:EDT
DTSTART:20260308T070000
END:DAYLIGHT
BEGIN:STANDARD
TZOFFSETFROM:-0400
TZOFFSETTO:-0500
TZNAME:EST
DTSTART:20261101T060000
END:STANDARD
BEGIN:DAYLIGHT
TZOFFSETFROM:-0500
TZOFFSETTO:-0400
TZNAME:EDT
DTSTART:20270314T070000
END:DAYLIGHT
BEGIN:STANDARD
TZOFFSETFROM:-0400
TZOFFSETTO:-0500
TZNAME:EST
DTSTART:20271107T060000
END:STANDARD
END:VTIMEZONE
BEGIN:VEVENT
DTSTART;TZID=America/Indiana/Indianapolis:20251217T110000
DTEND;TZID=America/Indiana/Indianapolis:20251217T120000
DTSTAMP:20260422T222207
CREATED:20251103T154300Z
LAST-MODIFIED:20251103T154300Z
UID:10000181-1765969200-1765972800@arlingtonroe.com
SUMMARY:Get to Know Arlington/Roe - Onboarding or Update/Refresher
DESCRIPTION:You’re Invited: Get to Know Arlington/Roe – Onboarding or Update/Refresher\nAs we approach the end of the year\, now is the perfect time to celebrate successes\, strengthen relationships and gear up for new opportunities ahead. \nOn behalf of Arlington/Roe and the Francis Roe Center for Professional Growth\, we’re pleased to invite you to an informative session designed to showcase how we can partner together for mutual success. \nWhether you’re new to Arlington/Roe or simply looking for a refresher\, this session is designed to help you close out the year with confidence and start the new one with momentum. You’ll gain valuable insights into who we are\, how we work and how to collaborate with us effectively. \nSix of our seasoned underwriters and brokers will be on hand to highlight the types of accounts we write\, outline key product coverages and benefits and offer practical tips to help you identify and navigate business opportunities with Arlington/Roe. \nLet’s close out the year on a high note and lay the foundation for even greater success ahead. We look forward to your participation and to supporting a strong\, productive partnership! \n Register
URL:https://arlingtonroe.com/event/get-to-know-arlington-roe-onboarding-or-update-refresher-8/
CATEGORIES:Corporate News
LOCATION:https://events.teams.microsoft.com/event/2bd15d0a-1136-4ef8-a387-07c6ff315d71@c023bbb1-8a45-49d4-98e6-fea1f7378c2e
END:VEVENT
BEGIN:VEVENT
DTSTART;TZID=America/Indiana/Indianapolis:20260120T110000
DTEND;TZID=America/Indiana/Indianapolis:20260120T113000
DTSTAMP:20260422T222207
CREATED:20251121T154627Z
LAST-MODIFIED:20251215T165251Z
UID:10000182-1768906800-1768908600@arlingtonroe.com
SUMMARY:Navigating COPE - Your Path to Stronger Commercial Property Submissions
DESCRIPTION:Navigating COPE – Your Path to Stronger Commercial Property Submissions\nCOPE remains the foundation of property risk evaluation in today’s E&S market. \nJoin us for an insightful 30-minute webinar with Kim Wollenhaupt\, Commercial Binding Senior Underwriter\, Olivia Piekenbrock\, Commercial Property and Inland Marine Senior Broker\, and Julia Sonntag\, Commercial Assistant Broker. \nThey will break down how Construction\, Occupancy\, Protection and Exposure\, or COPE\, paired with precise building valuations\, shape smarter risk assessment. \nDon’t miss this opportunity to gain practical guidance and strengthen your understanding of the evolving insurance landscape! We look forward to having you attend the event! \n Register
URL:https://arlingtonroe.com/event/navigating-cope-your-path-to-stronger-commercial-property-submissions/
CATEGORIES:Corporate News
LOCATION:https://events.teams.microsoft.com/event/ff247418-2f77-45f5-9ae0-cb5b6b2b7b22@c023bbb1-8a45-49d4-98e6-fea1f7378c2e
END:VEVENT
BEGIN:VEVENT
DTSTART;TZID=America/Indiana/Indianapolis:20260128T110000
DTEND;TZID=America/Indiana/Indianapolis:20260128T120000
DTSTAMP:20260422T222207
CREATED:20251121T155316Z
LAST-MODIFIED:20251121T155316Z
UID:10000183-1769598000-1769601600@arlingtonroe.com
SUMMARY:Get to Know Arlington/Roe Onboarding or Refresher/Update
DESCRIPTION:Get to Know Arlington/Roe Onboarding or Refresher/Update\nAs we begin a new year\, now is the ideal time to strengthen your partnerships and lay the groundwork for growth and new opportunities in 2026. \nOn behalf of Arlington/Roe and the Francis Roe Center for Professional Growth\, we are pleased to welcome you and showcase the many ways we can collaborate with you in the year ahead. \nWhether you are new to Arlington/Roe or seeking a strategic refresh to start the year\, this session will provide valuable clarity and direction. You’ll gain a comprehensive understanding of who we are\, how we operate and the most effective ways to conduct business with our team. \nSix of our seasoned underwriters and brokers will be joining the webinar to share their knowledge\, highlighting the types of accounts we serve\, reviewing key product coverages and benefits and offering practical guidance to help you identify and navigate opportunities with Arlington/Roe. \nWe look forward to helping you start the new year strong as we continue building success through our partnership in 2026! \n Register
URL:https://arlingtonroe.com/event/get-to-know-arlington-roe-onboarding-or-refresher-update/
CATEGORIES:Corporate News
LOCATION:https://events.teams.microsoft.com/event/b1644581-36a5-4e67-8d4b-4aba3d996d61@c023bbb1-8a45-49d4-98e6-fea1f7378c2e
END:VEVENT
BEGIN:VEVENT
DTSTART;TZID=America/Indiana/Indianapolis:20260210T110000
DTEND;TZID=America/Indiana/Indianapolis:20260210T120000
DTSTAMP:20260422T222207
CREATED:20260113T141714Z
LAST-MODIFIED:20260113T141714Z
UID:10000184-1770721200-1770724800@arlingtonroe.com
SUMMARY:Workers' Compensation Industry Update - Knowledge That Adds Value
DESCRIPTION:Workers’ Compensation Industry Update – Knowledge That Adds Value\nPlease join Arlington/Roe and the Francis Roe Center for Professional Growth for a Workers’ Compensation webinar highlighting current market conditions\, with a review of 2024 and 2025 findings. \nThis session will explore recent results\, key trends and takeaways shaping the Workers’ Compensation environment today. Designed for insurance professionals\, this discussion will offer practical insight to support informed decision-making and insured guidance. \nWe look forward to you joining us! \n Register
URL:https://arlingtonroe.com/event/workers-compensation-industry-update-knowledge-that-adds-value/
CATEGORIES:Corporate News
LOCATION:https://events.teams.microsoft.com/event/290ac1db-776d-4ed8-8543-976d123b2ac1@c023bbb1-8a45-49d4-98e6-fea1f7378c2e
END:VEVENT
BEGIN:VEVENT
DTSTART;TZID=America/Indiana/Indianapolis:20260225T110000
DTEND;TZID=America/Indiana/Indianapolis:20260225T120000
DTSTAMP:20260422T222207
CREATED:20260115T205733Z
LAST-MODIFIED:20260115T205733Z
UID:10000185-1772017200-1772020800@arlingtonroe.com
SUMMARY:Get to Know Arlington/Roe Onboarding or Refresher/Update
DESCRIPTION:Get to Know Arlington/Roe Onboarding or Refresher/Update\nAs we continue to move into the new year\, there’s no better time to strengthen connections and position yourself for the opportunities ahead. \nOn behalf of Arlington/Roe and the Francis Roe Center for Professional Growth\, we are pleased to welcome you and showcase the many ways we can collaborate with you in the year ahead. \nWhether you’re new to Arlington/Roe or simply looking for an update\, this session offers a clear\, practical overview of who we are\, how we operate\, and the best ways to do business with us. \nSeven of our experienced underwriters and brokers will join the conversation to share their insights\, highlight the types of accounts we write\, review product coverages & benefits and offer helpful tips for navigating opportunities with us. \nWe look forward to connecting with you and continuing to build success through a productive partnership! \n Register
URL:https://arlingtonroe.com/event/get-to-know-arlington-roe-onboarding-or-refresher-update-2026/
CATEGORIES:Corporate News
LOCATION:https://events.teams.microsoft.com/event/4bc0d864-1238-4558-aadf-bcd65626f030@c023bbb1-8a45-49d4-98e6-fea1f7378c2e
END:VEVENT
BEGIN:VEVENT
DTSTART;TZID=America/Indiana/Indianapolis:20260317T110000
DTEND;TZID=America/Indiana/Indianapolis:20260317T120000
DTSTAMP:20260422T222207
CREATED:20260218T135633Z
LAST-MODIFIED:20260218T144430Z
UID:10000188-1773745200-1773748800@arlingtonroe.com
SUMMARY:American Modern Residential Product Overview
DESCRIPTION:American Modern Residential Product Overview\nThis webinar will provide a comprehensive overview of American Modern’s Residential Products. Join your sales managers and skilled trainer for a customized training session! \nDuring this session\, you will review the full suite of Residential products available\, with a focused discussion on risk placement strategies\, eligibility guidelines\, included and optional coverages and key exclusions. You’ll gain practical insights to help you position the right solutions for your clients. \nThere will also be a drawing for a chance to win a $50.00 gift card and dedicated time for a Q&A\, so come ready with your questions! \n Register
URL:https://arlingtonroe.com/event/american-modern-residential-product-overview/
CATEGORIES:Personal Lines
LOCATION:https://americanmodern.webex.com/weblink/register/r75a33f4852627032f82bdd04630d6f88
END:VEVENT
BEGIN:VEVENT
DTSTART;TZID=America/Indiana/Indianapolis:20260318T110000
DTEND;TZID=America/Indiana/Indianapolis:20260318T120000
DTSTAMP:20260422T222207
CREATED:20260209T153748Z
LAST-MODIFIED:20260209T153907Z
UID:10000187-1773831600-1773835200@arlingtonroe.com
SUMMARY:Get to Know Arlington/Roe Onboarding or Refresher/Update
DESCRIPTION:Get to Know Arlington/Roe Onboarding or Refresher/Update\nOn behalf of Arlington/Roe and the Francis Roe Center for Professional Growth\, we’re pleased to invite you to an onboarding and/or refresher session designed to highlight who we are\, how we operate\, and how we can work together most effectively. \nWhether you’re new to Arlington/Roe or simply looking for an update\, this session provides a clear\, practical overview of our organization\, our approach and the best ways to do business with us\, showcasing why agents turn to Arlington/Roe as a trusted resource. \nSeveral of our experienced underwriters and brokers will join the conversation to share their insights\, discuss the types of accounts we write\, review product coverages and benefits and offer insights and tips to help you identify and navigate insurance opportunities with confidence. \nWe look forward to connecting with you and continuing to build success through a productive partnership! \n Register
URL:https://arlingtonroe.com/event/get-to-know-arlington-roe-onboarding-or-refresher-update-2/
CATEGORIES:Corporate News
LOCATION:https://events.teams.microsoft.com/event/120b832d-0a55-451d-b80c-d2ee473747f6@c023bbb1-8a45-49d4-98e6-fea1f7378c2e
END:VEVENT
BEGIN:VEVENT
DTSTART;TZID=America/Indiana/Indianapolis:20260318T143000
DTEND;TZID=America/Indiana/Indianapolis:20260318T153000
DTSTAMP:20260422T222207
CREATED:20260218T144359Z
LAST-MODIFIED:20260218T144359Z
UID:10000189-1773844200-1773847800@arlingtonroe.com
SUMMARY:American Modern Residential Product Overview
DESCRIPTION:American Modern Residential Product Overview\nThis webinar will provide a comprehensive overview of American Modern’s Residential Products. Join your sales managers and skilled trainer for a customized training session! \nDuring this session\, you will review the full suite of Residential products available\, with a focused discussion on risk placement strategies\, eligibility guidelines\, included and optional coverages and key exclusions. You’ll gain practical insights to help you position the right solutions for your clients. \nThere will also be a drawing for a chance to win a $50.00 gift card and dedicated time for a Q&A\, so come ready with your questions! \n Register
URL:https://arlingtonroe.com/event/american-modern-residential-product-overview-2/
CATEGORIES:Personal Lines
LOCATION:https://url.us.m.mimecastprotect.com/s/GbV4COY2wjU5roDOSvhQIGKae8?domain=americanmodern.webex.com
END:VEVENT
BEGIN:VEVENT
DTSTART;TZID=America/Indiana/Indianapolis:20260319T110000
DTEND;TZID=America/Indiana/Indianapolis:20260319T113000
DTSTAMP:20260422T222207
CREATED:20260223T151102Z
LAST-MODIFIED:20260223T151102Z
UID:10000190-1773918000-1773919800@arlingtonroe.com
SUMMARY:Exploring Social Services with USLI
DESCRIPTION:Exploring Social Services with USLI\nYou’re invited to join us for an informative webinar exploring our appetite for Social Service Organizations. During this session\, we will review target classes\, highlight key opportunities and provide an IQ (Instant Quote) demonstration to show how quickly and easily you can quote risks with USLI. \nWe look forward to having you with us! \n Register
URL:https://arlingtonroe.com/event/exploring-social-services-with-usli/
CATEGORIES:Corporate News
LOCATION:https://usli.webex.com/weblink/register/r8216f272e4c9f9d53a07886af7199c37
END:VEVENT
BEGIN:VEVENT
DTSTART;TZID=America/Indiana/Indianapolis:20260324T110000
DTEND;TZID=America/Indiana/Indianapolis:20260324T113000
DTSTAMP:20260422T222207
CREATED:20260209T151145Z
LAST-MODIFIED:20260209T151145Z
UID:10000186-1774350000-1774351800@arlingtonroe.com
SUMMARY:Understanding Telematics - Turning Miles into Meaning for the Transportation Industry
DESCRIPTION:Understanding Telematics – Turning Miles into Meaning for the Transportation Industry\nPlease join Arlington/Roe and the Francis Roe Center for Professional Growth for a brief\, informative webinar exploring the role of telematics in today’s transportation sector. You will hear from Kaleb VanderMaiden\, Transportation Underwriter and learn about the origins of telematics\, how it is being used today and why it has become a game-changer for fleet operations and risk management. \nWe look forward to you joining us! \n Register
URL:https://arlingtonroe.com/event/understanding-telematics-turning-miles-into-meaning-for-the-transportation-industry/
CATEGORIES:Corporate News
LOCATION:https://events.teams.microsoft.com/event/354814af-2df8-4b81-a707-e53d535446b9@c023bbb1-8a45-49d4-98e6-fea1f7378c2e
END:VEVENT
BEGIN:VEVENT
DTSTART;TZID=America/Indiana/Indianapolis:20260414T110000
DTEND;TZID=America/Indiana/Indianapolis:20260414T113000
DTSTAMP:20260422T222207
CREATED:20260325T120900Z
LAST-MODIFIED:20260325T120900Z
UID:10000193-1776164400-1776166200@arlingtonroe.com
SUMMARY:Summer Special Events with USLI
DESCRIPTION:Summer Special Events with USLI\nWith summer right around the corner\, join us to learn more about how to write special events with USLI & Arlington/Roe. \nWe will discuss our appetite and show you how to quickly and easily quote these risks using USLI’s Instant Quote phone and web platforms. \n Register
URL:https://arlingtonroe.com/event/summer-special-events-with-usli/
CATEGORIES:Corporate News
LOCATION:https://usli.webex.com/weblink/register/r41d5bef8cff32cf7659d0703fc764a34
END:VEVENT
BEGIN:VEVENT
DTSTART;TZID=America/Indiana/Indianapolis:20260429T110000
DTEND;TZID=America/Indiana/Indianapolis:20260429T120000
DTSTAMP:20260422T222207
CREATED:20260310T125929Z
LAST-MODIFIED:20260324T125738Z
UID:10000192-1777460400-1777464000@arlingtonroe.com
SUMMARY:Get to Know Arlington/Roe - Onboarding or Refresher/Update
DESCRIPTION:Get to Know Arlington/Roe – Onboarding or Refresher/Update\nOn behalf of Arlington/Roe and the Francis Roe Center for Professional Growth\, we’re pleased to invite you to an onboarding and/or refresher session designed to highlight who we are\, how we operate and how we can work together most effectively. \nWhether you’re new to Arlington/Roe or simply looking for an update\, this session provides a clear\, practical overview of our organization\, our approach and the best ways to do business with us\, showcasing why agents turn to Arlington/Roe as a trusted resource. \nSeveral of our experienced underwriters and brokers will join the conversation to share their knowledge\, discuss the types of accounts we write\, review product coverages and benefits and offer insights to help you identify or navigate insurance opportunities with confidence. \nWe look forward to connecting with you and continuing to build a strong\, productive partnership! \n Register
URL:https://arlingtonroe.com/event/get-to-know-arlington-roe-onboarding-or-refresher-update-3/
CATEGORIES:Corporate News
LOCATION:https://events.teams.microsoft.com/event/4c0f2555-f64d-4270-8940-4a665a5740e0@c023bbb1-8a45-49d4-98e6-fea1f7378c2e
END:VEVENT
BEGIN:VEVENT
DTSTART;TZID=America/Indiana/Indianapolis:20260512T110000
DTEND;TZID=America/Indiana/Indianapolis:20260512T113000
DTSTAMP:20260422T222207
CREATED:20260413T140343Z
LAST-MODIFIED:20260413T142846Z
UID:10000195-1778583600-1778585400@arlingtonroe.com
SUMMARY:Liquor Liability - Beyond Bars and Restaurants with USLI
DESCRIPTION:Liquor Liability – Beyond Bars and Restaurants with USLI\nAs businesses continue to evolve and enhance the customer experience\, liquor exposure is no longer limited to traditional bars and restaurants. From sipping wine while shopping to enjoying a paint-and-sip class or relaxing during a salon visit\, alcohol service is showing up in unexpected places\, which is bringing new and often misunderstood risks. \nJoin USLI and Arlington/Roe for an informative and practical session exploring how liquor liability applies beyond bars and restaurants. \nWe look forward to having you join us! \n Register
URL:https://arlingtonroe.com/event/liquor-liability-beyond-bars-and-restaurants-with-usli/
CATEGORIES:Corporate News
LOCATION:https://usli.webex.com/weblink/register/rfd8e208fc89ba6e8372ec0916c4c0fa6
END:VEVENT
BEGIN:VEVENT
DTSTART;TZID=America/Indiana/Indianapolis:20260521T110000
DTEND;TZID=America/Indiana/Indianapolis:20260521T120000
DTSTAMP:20260422T222207
CREATED:20260310T124740Z
LAST-MODIFIED:20260413T142529Z
UID:10000191-1779361200-1779364800@arlingtonroe.com
SUMMARY:Garage 101
DESCRIPTION:Garage 101\nOn behalf of Arlington/Roe and the Francis Roe Center\, we’d like to invite you to our Garage 101 webinar. \nIn today’s ever-changing insurance landscape\, understanding policies and coverages for risks within your communities is important for professionals like yourself. Whether your insured is involved in service\, towing or used auto dealers\, this webinar is tailored to equip you with the tools to review risks and understand the array of coverages available. \nChrista Loudin\, our seasoned Senior Transportation Underwriter\, will be presenting and sharing her wealth of knowledge to assist you in writing garage business. \nWe look forward to you joining us! \n Register
URL:https://arlingtonroe.com/event/garage-101-4/
CATEGORIES:Corporate News
LOCATION:https://events.teams.microsoft.com/event/74797c73-9c64-46a1-8393-5e15c945cc91@c023bbb1-8a45-49d4-98e6-fea1f7378c2e
END:VEVENT
BEGIN:VEVENT
DTSTART;TZID=America/Indiana/Indianapolis:20260527T110000
DTEND;TZID=America/Indiana/Indianapolis:20260527T120000
DTSTAMP:20260422T222207
CREATED:20260413T135554Z
LAST-MODIFIED:20260413T135554Z
UID:10000194-1779879600-1779883200@arlingtonroe.com
SUMMARY:Get to Know Arlington/Roe
DESCRIPTION:Get to Know Arlington/Roe\nOn behalf of Arlington/Roe and the Francis Roe Center for Professional Growth\, we’re pleased to invite you to\, Get to Know Arlington/Roe\, an onboarding and/or refresher webinar designed to highlight who we are\, how we operate and how we can work together most effectively. \nWhether you’re new to Arlington/Roe or simply looking for an update\, this session provides a clear\, practical overview of our organization\, our approach and the best ways to do business with us\, showcasing why agents turn to Arlington/Roe as a trusted resource. \nSeveral of our experienced underwriters and brokers will join the conversation to share their knowledge and experience. They will discuss the types of accounts we write\, review product coverages and benefits\, and offer insights to help you identify and/or navigate insurance opportunities with confidence. \nWe look forward to connecting with you and continuing to build a strong\, productive partnership! \n Register
URL:https://arlingtonroe.com/event/get-to-know-arlington-roe-2/
CATEGORIES:Corporate News
LOCATION:https://events.teams.microsoft.com/event/ab42ae02-f323-4d13-8b8b-dc30eb3d4c35@c023bbb1-8a45-49d4-98e6-fea1f7378c2e
END:VEVENT
END:VCALENDAR