BEGIN:VCALENDAR
VERSION:2.0
PRODID:-//Arlington/Roe - ECPv6.15.20//NONSGML v1.0//EN
CALSCALE:GREGORIAN
METHOD:PUBLISH
X-ORIGINAL-URL:https://arlingtonroe.com
X-WR-CALDESC:Events for Arlington/Roe
REFRESH-INTERVAL;VALUE=DURATION:PT1H
X-Robots-Tag:noindex
X-PUBLISHED-TTL:PT1H
BEGIN:VTIMEZONE
TZID:America/Indiana/Indianapolis
BEGIN:DAYLIGHT
TZOFFSETFROM:-0500
TZOFFSETTO:-0400
TZNAME:EDT
DTSTART:20240310T070000
END:DAYLIGHT
BEGIN:STANDARD
TZOFFSETFROM:-0400
TZOFFSETTO:-0500
TZNAME:EST
DTSTART:20241103T060000
END:STANDARD
BEGIN:DAYLIGHT
TZOFFSETFROM:-0500
TZOFFSETTO:-0400
TZNAME:EDT
DTSTART:20250309T070000
END:DAYLIGHT
BEGIN:STANDARD
TZOFFSETFROM:-0400
TZOFFSETTO:-0500
TZNAME:EST
DTSTART:20251102T060000
END:STANDARD
BEGIN:DAYLIGHT
TZOFFSETFROM:-0500
TZOFFSETTO:-0400
TZNAME:EDT
DTSTART:20260308T070000
END:DAYLIGHT
BEGIN:STANDARD
TZOFFSETFROM:-0400
TZOFFSETTO:-0500
TZNAME:EST
DTSTART:20261101T060000
END:STANDARD
END:VTIMEZONE
BEGIN:VEVENT
DTSTART;TZID=America/Indiana/Indianapolis:20250423T110000
DTEND;TZID=America/Indiana/Indianapolis:20250423T120000
DTSTAMP:20260424T131152
CREATED:20250317T143856Z
LAST-MODIFIED:20250317T144317Z
UID:10000150-1745406000-1745409600@arlingtonroe.com
SUMMARY:Get to Know Arlington/Roe - Onboarding or Refresher
DESCRIPTION:You’re Invited – Get to Know Arlington/Roe – Onboarding or Refresher\nOn behalf of Arlington/Roe and the Francis Roe Center for Professional Growth\, we would like to take this opportunity to welcome you to working with us. \nWhether you are new to Arlington/Roe or would like to take advantage of an update\, we’ve got you covered! Please join us for an overview of our organization\, as well as learning how to do business with us. \nThis session will cover our various departments and will highlight practices. \nWe look forward to having you attend the event! \n Register
URL:https://arlingtonroe.com/event/get-to-know-arlington-roe-onboarding-or-refresher-3/
CATEGORIES:Corporate News
LOCATION:https://events.teams.microsoft.com/event/b7031ae3-432c-47f1-8bba-96cf69e60faf@c023bbb1-8a45-49d4-98e6-fea1f7378c2e
END:VEVENT
BEGIN:VEVENT
DTSTART;TZID=America/Indiana/Indianapolis:20250428T110000
DTEND;TZID=America/Indiana/Indianapolis:20250428T120000
DTSTAMP:20260424T131152
CREATED:20250317T185236Z
LAST-MODIFIED:20250325T171856Z
UID:10000151-1745838000-1745841600@arlingtonroe.com
SUMMARY:Coffee Talk with the Roes
DESCRIPTION:The Francis Roe Center for Professional Growth presents Coffee Talk with the Roes\nThe Francis Roe Center is happy to announce our featured session for April\, Coffee Talk with the Roes\, on April 28\, where you will hear from Jim\, Patrick\, and Andy Roe on the current state of the insurance marketplace and how Arlington/Roe is here to help. \nThe Francis Roe Center is named in honor of President & CEO Jim Roe’s father\, Francis\, reflecting Jim’s commitment to ongoing education and his desire to commemorate his father’s legacy through this initiative. The Francis Roe Center is dedicated to inspiring success\, fulfillment\, and the well-being of all our associates and partnered agents. \nThe FRC offers a variety of topics\, with a monthly onboarding or refresher update on how to do business with us\, “Get to Know Arlington/Roe.” If you are new to the insurance industry or new to working with us\, or perhaps you are simply looking for an update\, please check out this session where we have seven presenters with our underwriters and brokers speaking from their various departments. The next Get to Know Arlington/Roe is on April 23rd. \nWe continue to expand our sessions to include individual department overviews\, including Medical Malpractice\, Transportation\, Professional Liability\, and more. We also dive into discussions around topics that are top of mind in the industry with specialty sessions\, such as the hard market and active assailant coverages. \nWe invite you to join us for one of our upcoming sessions. For more information on our schedule\, please visit the webinars section of our website or contact Diane L. Smith\, Director of the FRC\, with any questions you may have. \nWe look forward to having you join us for Coffee Talk with the Roes! Please register today and provide us with any questions you would like to ask the Roes. \n Register
URL:https://arlingtonroe.com/event/coffee-talk-with-the-roes-2/
CATEGORIES:Corporate News
LOCATION:https://events.teams.microsoft.com/event/6fd88e2c-107f-4c01-beb0-a301c76f4a86@c023bbb1-8a45-49d4-98e6-fea1f7378c2e
END:VEVENT
END:VCALENDAR