BEGIN:VCALENDAR
VERSION:2.0
PRODID:-//Arlington/Roe - ECPv6.15.20//NONSGML v1.0//EN
CALSCALE:GREGORIAN
METHOD:PUBLISH
X-WR-CALNAME:Arlington/Roe
X-ORIGINAL-URL:https://arlingtonroe.com
X-WR-CALDESC:Events for Arlington/Roe
REFRESH-INTERVAL;VALUE=DURATION:PT1H
X-Robots-Tag:noindex
X-PUBLISHED-TTL:PT1H
BEGIN:VTIMEZONE
TZID:America/Indiana/Indianapolis
BEGIN:DAYLIGHT
TZOFFSETFROM:-0500
TZOFFSETTO:-0400
TZNAME:EDT
DTSTART:20240310T070000
END:DAYLIGHT
BEGIN:STANDARD
TZOFFSETFROM:-0400
TZOFFSETTO:-0500
TZNAME:EST
DTSTART:20241103T060000
END:STANDARD
BEGIN:DAYLIGHT
TZOFFSETFROM:-0500
TZOFFSETTO:-0400
TZNAME:EDT
DTSTART:20250309T070000
END:DAYLIGHT
BEGIN:STANDARD
TZOFFSETFROM:-0400
TZOFFSETTO:-0500
TZNAME:EST
DTSTART:20251102T060000
END:STANDARD
BEGIN:DAYLIGHT
TZOFFSETFROM:-0500
TZOFFSETTO:-0400
TZNAME:EDT
DTSTART:20260308T070000
END:DAYLIGHT
BEGIN:STANDARD
TZOFFSETFROM:-0400
TZOFFSETTO:-0500
TZNAME:EST
DTSTART:20261101T060000
END:STANDARD
END:VTIMEZONE
BEGIN:VEVENT
DTSTART;TZID=America/Indiana/Indianapolis:20250521T100000
DTEND;TZID=America/Indiana/Indianapolis:20250521T103000
DTSTAMP:20260424T112249
CREATED:20250409T164330Z
LAST-MODIFIED:20250415T174550Z
UID:10000152-1747821600-1747823400@arlingtonroe.com
SUMMARY:Special Events & Nonprofits: The Keys to Saving Money and Protecting Your Clients
DESCRIPTION:Special Events & Nonprofits: The Keys to Saving Money and Protecting Your Clients\nWhen did you last look into your special event book of business? Noticing any trends? \nAs we comb through our list of events policies\, it’s alarming how many are nonprofits and other continually operating organizations. Wouldn’t it make more sense to write these on an annual policy with the convenience to add blanket special events when needed? \nTake a deep dive with Arlington/Roe and USLI to learn more about the benefits of providing annual coverage for these nonprofit organizations that need protection for their daily activities and events. \nHelp give your insureds peace of mind with a comprehensive package including general liability\, blanket events coverage\, property\, directors & officers/employment practices and a variety of other coverages for an a la carte experience. \n Register
URL:https://arlingtonroe.com/event/special-events-nonprofits-the-keys-to-saving-money-and-protecting-your-clients/
CATEGORIES:Corporate News
LOCATION:https://usli.webex.com/weblink/register/r7fe03b339f27a4f6141c97d81cb42b35
END:VEVENT
BEGIN:VEVENT
DTSTART;TZID=America/Indiana/Indianapolis:20250528T110000
DTEND;TZID=America/Indiana/Indianapolis:20250528T120000
DTSTAMP:20260424T112249
CREATED:20250409T164951Z
LAST-MODIFIED:20250409T191914Z
UID:10000153-1748430000-1748433600@arlingtonroe.com
SUMMARY:Get to Know Arlington/Roe - Onboarding or Refresher
DESCRIPTION:You’re Invited – Get to Know Arlington/Roe – Onboarding or Refresher\nOn behalf of Arlington/Roe and the Francis Roe Center for Professional Growth\, we would like to take this opportunity to welcome you to working with us. \nWhether you are new to Arlington/Roe or would like to take advantage of an update\, we’ve got you covered! Please join us for an overview of our organization\, as well as learning how to do business with us. \nThis session will cover our various departments and will highlight practices. \nWe look forward to having you attend the event! \n Register
URL:https://arlingtonroe.com/event/get-to-know-arlington-roe-onboarding-or-refresher-4/
CATEGORIES:Corporate News
LOCATION:https://events.teams.microsoft.com/event/60a2fd0b-52f3-4c0f-b5bc-14c977cdd765@c023bbb1-8a45-49d4-98e6-fea1f7378c2e
END:VEVENT
END:VCALENDAR