BEGIN:VCALENDAR
VERSION:2.0
PRODID:-//Arlington/Roe - ECPv6.15.20//NONSGML v1.0//EN
CALSCALE:GREGORIAN
METHOD:PUBLISH
X-ORIGINAL-URL:https://arlingtonroe.com
X-WR-CALDESC:Events for Arlington/Roe
REFRESH-INTERVAL;VALUE=DURATION:PT1H
X-Robots-Tag:noindex
X-PUBLISHED-TTL:PT1H
BEGIN:VTIMEZONE
TZID:America/Indiana/Indianapolis
BEGIN:DAYLIGHT
TZOFFSETFROM:-0500
TZOFFSETTO:-0400
TZNAME:EDT
DTSTART:20240310T070000
END:DAYLIGHT
BEGIN:STANDARD
TZOFFSETFROM:-0400
TZOFFSETTO:-0500
TZNAME:EST
DTSTART:20241103T060000
END:STANDARD
BEGIN:DAYLIGHT
TZOFFSETFROM:-0500
TZOFFSETTO:-0400
TZNAME:EDT
DTSTART:20250309T070000
END:DAYLIGHT
BEGIN:STANDARD
TZOFFSETFROM:-0400
TZOFFSETTO:-0500
TZNAME:EST
DTSTART:20251102T060000
END:STANDARD
BEGIN:DAYLIGHT
TZOFFSETFROM:-0500
TZOFFSETTO:-0400
TZNAME:EDT
DTSTART:20260308T070000
END:DAYLIGHT
BEGIN:STANDARD
TZOFFSETFROM:-0400
TZOFFSETTO:-0500
TZNAME:EST
DTSTART:20261101T060000
END:STANDARD
END:VTIMEZONE
BEGIN:VEVENT
DTSTART;TZID=America/Indiana/Indianapolis:20250605T140000
DTEND;TZID=America/Indiana/Indianapolis:20250605T150000
DTSTAMP:20260424T093354
CREATED:20250410T173032Z
LAST-MODIFIED:20250410T173032Z
UID:10000155-1749132000-1749135600@arlingtonroe.com
SUMMARY:Garage 101
DESCRIPTION:Garage 101\nIn today’s ever-changing insurance landscape\, understanding policies and coverages for risks within your communities is important for professionals like yourself. Whether your insured is involved in service\, towing\, or used auto dealers\, this webinar is tailored to equip you with the tools to review risks and understand the array of coverages available. \nChrista Loudin\, a seasoned Arlington/Roe Senior Transportation Underwriter\, and a familiar face in our monthly onboarding/refresher sessions\, will be expanding her presentation\, sharing her wealth of knowledge and expertise\, to assist you in writing garage business. \n Register
URL:https://arlingtonroe.com/event/garage-101-2/
CATEGORIES:Corporate News
LOCATION:https://events.teams.microsoft.com/event/b2626d34-62dd-4618-9227-aad18bdfd162@c023bbb1-8a45-49d4-98e6-fea1f7378c2e
END:VEVENT
BEGIN:VEVENT
DTSTART;TZID=America/Indiana/Indianapolis:20250610T110000
DTEND;TZID=America/Indiana/Indianapolis:20250610T120000
DTSTAMP:20260424T093354
CREATED:20250410T172340Z
LAST-MODIFIED:20250410T172449Z
UID:10000154-1749553200-1749556800@arlingtonroe.com
SUMMARY:Trucking
DESCRIPTION:Trucking\nPlease join us for an exclusive session to learn more about Trucking and the markets we represent\, featuring Senior Transportation Underwriter\, Brian Collins\, as presenter. \nEvent Highlights: \n\nOverview of Our Trucking Team and Markets: Discover the exceptional capabilities of our dedicated trucking team and the diverse markets we serve.\nTypes of Risks/Classes We Can Write: Explore the variety of risks and classes we specialize in\, tailored to help you find the right solutions for your insureds.\nQuick Look at DOT and Motor Carrier Filings: Gain insights into DOT and Motor Carrier filings\, essential for staying compliant and competitive.\nSubmission Process/Requirements: Learn about our submission process and the requirements to ensure a smooth experience.\nTarget Classes and Recent Hit List: Get an overview of our target classes and recent successfully written policies\, illustrating our expertise and market reach.\n\n Register
URL:https://arlingtonroe.com/event/trucking-2/
CATEGORIES:Corporate News
LOCATION:https://events.teams.microsoft.com/event/0918d325-6051-4f06-afb3-fed6a15030d1@c023bbb1-8a45-49d4-98e6-fea1f7378c2e
END:VEVENT
BEGIN:VEVENT
DTSTART;TZID=America/Indiana/Indianapolis:20250625T110000
DTEND;TZID=America/Indiana/Indianapolis:20250625T120000
DTSTAMP:20260424T093354
CREATED:20250519T135926Z
LAST-MODIFIED:20250519T140047Z
UID:10000157-1750849200-1750852800@arlingtonroe.com
SUMMARY:Get to Know Arlington/Roe - Onboarding or Update/Refresher
DESCRIPTION:You’re Invited – Get to Know Arlington/Roe – Onboarding or Update/Refresher\nOn behalf of Arlington/Roe and the Francis Roe Center for Professional Growth\, we would like to take this opportunity to welcome you to working with us. \nWhether you are new to Arlington/Roe or would like to take advantage of an update\, we’ve got you covered! Please join us for an overview of our organization\, as well as learning how to do business with us. \nThis session will cover our various departments and will highlight practices. \nWe look forward to having you attend the event! \n Register
URL:https://arlingtonroe.com/event/get-to-know-arlington-roe-onboarding-or-update-refresher/
CATEGORIES:Corporate News
LOCATION:https://events.teams.microsoft.com/event/c8cfeb63-8add-4074-b3ab-1f9d3da04662@c023bbb1-8a45-49d4-98e6-fea1f7378c2e
END:VEVENT
BEGIN:VEVENT
DTSTART;TZID=America/Indiana/Indianapolis:20250626T110000
DTEND;TZID=America/Indiana/Indianapolis:20250626T120000
DTSTAMP:20260424T093354
CREATED:20250502T152641Z
LAST-MODIFIED:20250515T172250Z
UID:10000156-1750935600-1750939200@arlingtonroe.com
SUMMARY:Agribusiness Overview with SECURA - 1 CE Credit
DESCRIPTION:Agribusiness Overview with SECURA – 1 CE Credit\nThe Francis Roe Center is pleased to welcome SECURA to our June session lineup! We are excited to be joined by Corey Rhoads\, Lead Agent Educator for SECURA Academy\, as our guest speaker for this CE-approved course. \nCorey will provide an in-depth overview of SECURA’s Agribusiness program\, highlighting how it delivers broad\, customizable coverage solutions for operations ranging from small farms to complex\, multi-faceted agribusinesses. He’ll walk attendees through key program features\, including tailored protection options\, specialized endorsements\, and strategies for aligning coverage with the evolving exposures of modern agricultural enterprises. \nSteve Renihan\, our Commercial Ag Practice Leader and Senior Broker at Arlington/Roe\, will also be joining to offer insight and answer questions\, adding valuable real-world context to the discussion. \nThis course offers 1 CE credit for P&C licensed agents in the following states: WI\, IN\, IL\, IA\, KY\, MI\, MN\, MO\, NE\, and TN. To ensure CE credit is processed\, please register using your full name and license number exactly as it appears on your license. \nWe look forward to having you attend the event! \n Register
URL:https://arlingtonroe.com/event/agribusiness-overview-with-secura/
CATEGORIES:Corporate News
LOCATION:https://events-na2.adobeconnect.com/content/adobeconnect/30/1077961974/en/events/event/shared/3530498970/event_landing.html?sco-id=3820890278&_charset_=utf-8 
END:VEVENT
END:VCALENDAR