BEGIN:VCALENDAR
VERSION:2.0
PRODID:-//Arlington/Roe - ECPv6.15.20//NONSGML v1.0//EN
CALSCALE:GREGORIAN
METHOD:PUBLISH
X-WR-CALNAME:Arlington/Roe
X-ORIGINAL-URL:https://arlingtonroe.com
X-WR-CALDESC:Events for Arlington/Roe
REFRESH-INTERVAL;VALUE=DURATION:PT1H
X-Robots-Tag:noindex
X-PUBLISHED-TTL:PT1H
BEGIN:VTIMEZONE
TZID:America/Indiana/Indianapolis
BEGIN:DAYLIGHT
TZOFFSETFROM:-0500
TZOFFSETTO:-0400
TZNAME:EDT
DTSTART:20240310T070000
END:DAYLIGHT
BEGIN:STANDARD
TZOFFSETFROM:-0400
TZOFFSETTO:-0500
TZNAME:EST
DTSTART:20241103T060000
END:STANDARD
BEGIN:DAYLIGHT
TZOFFSETFROM:-0500
TZOFFSETTO:-0400
TZNAME:EDT
DTSTART:20250309T070000
END:DAYLIGHT
BEGIN:STANDARD
TZOFFSETFROM:-0400
TZOFFSETTO:-0500
TZNAME:EST
DTSTART:20251102T060000
END:STANDARD
BEGIN:DAYLIGHT
TZOFFSETFROM:-0500
TZOFFSETTO:-0400
TZNAME:EDT
DTSTART:20260308T070000
END:DAYLIGHT
BEGIN:STANDARD
TZOFFSETFROM:-0400
TZOFFSETTO:-0500
TZNAME:EST
DTSTART:20261101T060000
END:STANDARD
END:VTIMEZONE
BEGIN:VEVENT
DTSTART;TZID=America/Indiana/Indianapolis:20250715T140000
DTEND;TZID=America/Indiana/Indianapolis:20250715T144500
DTSTAMP:20260422T234115
CREATED:20250519T141639Z
LAST-MODIFIED:20250519T141639Z
UID:10000158-1752588000-1752590700@arlingtonroe.com
SUMMARY:Quick Quotes\, Big Opportunities: Hiscox Now for Professional and General Liability with Live Portal Demo!
DESCRIPTION:Quick Quotes\, Big Opportunities: Hiscox Now for Professional and General Liability with Live Portal Demo!\nOn behalf of the Francis Roe Center for Professional Growth\, we would like to invite you to an informative session as we review Professional Liability and General Liability opportunities with Hiscox Now — a trusted partner of Arlington/Roe and rated A (excellent) by A.M. Best. Hiscox Now offers admitted liability insurance for over 480 professions. \nWhat we’ll cover: \n\nLearn about the broad coverage options and advantages with Hiscox Now with a product and benefits review.\nHow their streamlined quoting process makes it easy and efficient to secure coverage.\nNew ventures welcome — great options for start-up businesses.\nCompetitive premiums with a fast\, simple online application and direct bill policies.\nLive Portal Demo — see how you can quote and bind policies online in just minutes!\n\nDiscover why Hiscox Now is a key carrier partner for Arlington/Roe and how they can help you better serve your insureds. \nWe look forward to having you attend the event! \n Register
URL:https://arlingtonroe.com/event/quick-quotes-big-opportunities-hiscox-now-for-professional-and-general-liability-with-live-portal-demo/
CATEGORIES:Corporate News
LOCATION:https://events.teams.microsoft.com/event/e4f9aa9b-885a-4556-b640-920d44aab222@c023bbb1-8a45-49d4-98e6-fea1f7378c2e
END:VEVENT
BEGIN:VEVENT
DTSTART;TZID=America/Indiana/Indianapolis:20250723T110000
DTEND;TZID=America/Indiana/Indianapolis:20250723T120000
DTSTAMP:20260422T234115
CREATED:20250613T131936Z
LAST-MODIFIED:20250613T131936Z
UID:10000159-1753268400-1753272000@arlingtonroe.com
SUMMARY:Get to Know Arlington/Roe - Onboarding or Update/Refresher
DESCRIPTION:You’re Invited – Get to Know Arlington/Roe – Onboarding or Update/Refresher\nOn behalf of Arlington/Roe and the Francis Roe Center for Professional Growth\, we would like to take this opportunity to welcome you and introduce you to the many ways we can work together. \nWhether you are new to Arlington/Roe or would like to take advantage of an update\, this session is a great opportunity to get up to speed. You’ll gain insight into who we are\, how we operate and the best ways to do business with us. \nSix of our experienced underwriters and brokers will be joining us to highlight the types of accounts we write\, share product coverages and benefits\, and offer practical tips and insights to help you navigate opportunities with Arlington/Roe. \nWe look forward to seeing you there and helping you make the most of your partnership with Arlington/Roe! \n Register
URL:https://arlingtonroe.com/event/get-to-know-arlington-roe-onboarding-or-update-refresher-2/
CATEGORIES:Corporate News
LOCATION:https://events.teams.microsoft.com/event/6eafbd90-a803-49ac-90c5-fe004c33d76c@c023bbb1-8a45-49d4-98e6-fea1f7378c2e
END:VEVENT
BEGIN:VEVENT
DTSTART;TZID=America/Indiana/Indianapolis:20250729T100000
DTEND;TZID=America/Indiana/Indianapolis:20250729T103000
DTSTAMP:20260422T234115
CREATED:20250701T133143Z
LAST-MODIFIED:20250701T133143Z
UID:10000160-1753783200-1753785000@arlingtonroe.com
SUMMARY:Protecting Your Commercial Risks Under the Summer Sun
DESCRIPTION:Protecting Your Commercial Risk Under the Summer Sun\nOn behalf of Arlington/Roe and the Francis Roe Center for Professional Growth\, we are excited to invite you to a special co-hosted session with USLI:\nProtecting Your Commercial Risks Under the Summer Sun! \nMake the most of your summer opportunities and join us as we highlight the top trending classes to write this season and uncover the easiest ways to quote them\, whether by phone or web. \nWe’ll also feature a live demo of USLI’s IQ – Instant Quote system\, giving you a firsthand look at how to streamline your quoting process. \nWe look forward to having you attend the event! \n Register
URL:https://arlingtonroe.com/event/protecting-your-commercial-risks-under-the-summer-sun/
CATEGORIES:Corporate News
LOCATION:https://usli.webex.com/weblink/register/r1ee5a303eebfa6eab16a79d63d637423
END:VEVENT
END:VCALENDAR