BEGIN:VCALENDAR
VERSION:2.0
PRODID:-//Arlington/Roe - ECPv6.15.20//NONSGML v1.0//EN
CALSCALE:GREGORIAN
METHOD:PUBLISH
X-ORIGINAL-URL:https://arlingtonroe.com
X-WR-CALDESC:Events for Arlington/Roe
REFRESH-INTERVAL;VALUE=DURATION:PT1H
X-Robots-Tag:noindex
X-PUBLISHED-TTL:PT1H
BEGIN:VTIMEZONE
TZID:America/Indiana/Indianapolis
BEGIN:DAYLIGHT
TZOFFSETFROM:-0500
TZOFFSETTO:-0400
TZNAME:EDT
DTSTART:20240310T070000
END:DAYLIGHT
BEGIN:STANDARD
TZOFFSETFROM:-0400
TZOFFSETTO:-0500
TZNAME:EST
DTSTART:20241103T060000
END:STANDARD
BEGIN:DAYLIGHT
TZOFFSETFROM:-0500
TZOFFSETTO:-0400
TZNAME:EDT
DTSTART:20250309T070000
END:DAYLIGHT
BEGIN:STANDARD
TZOFFSETFROM:-0400
TZOFFSETTO:-0500
TZNAME:EST
DTSTART:20251102T060000
END:STANDARD
BEGIN:DAYLIGHT
TZOFFSETFROM:-0500
TZOFFSETTO:-0400
TZNAME:EDT
DTSTART:20260308T070000
END:DAYLIGHT
BEGIN:STANDARD
TZOFFSETFROM:-0400
TZOFFSETTO:-0500
TZNAME:EST
DTSTART:20261101T060000
END:STANDARD
END:VTIMEZONE
BEGIN:VEVENT
DTSTART;TZID=America/Indiana/Indianapolis:20250821T140000
DTEND;TZID=America/Indiana/Indianapolis:20250821T143000
DTSTAMP:20260422T222033
CREATED:20250723T131819Z
LAST-MODIFIED:20250723T131819Z
UID:10000162-1755784800-1755786600@arlingtonroe.com
SUMMARY:Hospitality\, Liquor\, Food & Beverage Industry Overview with USLI
DESCRIPTION:Hospitality\, Liquor and Food & Beverage Industry Overview with USLI\nPlease join us for an engaging session with USLI tailored for insurance professionals working with\, or looking to grow in\, the hospitality and food service space. \nEvent highlights: \n\nKey trends and emerging risks in the hospitality\, liquor\, and food & beverage sectors\nUnderwriting considerations and appetite insights\nLiquor liability: what’s changing and what to watch for\nTips for identifying opportunity accounts and crafting smart coverage solutions\nA quick demo of the USLI IQ\, Instant Quote system\, see how it can simplify and speed up your rating process\n\nWhether you’re already serving this niche or just starting out\, you’ll walk away with practical insights to better support your insureds. \nDon’t miss this opportunity to stay ahead in the dynamic and growing world of hospitality insurance! \n Register
URL:https://arlingtonroe.com/event/hospitality-liquor-food-beverage-industry-overview-with-usli/
CATEGORIES:Corporate News
LOCATION:https://usli.webex.com/weblink/register/r74da0b2fc7c6cd9777e3417278da3cc1
END:VEVENT
BEGIN:VEVENT
DTSTART;TZID=America/Indiana/Indianapolis:20250827T110000
DTEND;TZID=America/Indiana/Indianapolis:20250827T120000
DTSTAMP:20260422T222033
CREATED:20250721T145526Z
LAST-MODIFIED:20250721T145526Z
UID:10000161-1756292400-1756296000@arlingtonroe.com
SUMMARY:Get to Know Arlington/Roe - Onboarding or Update/Refresher
DESCRIPTION:You’re Invited – Get to Know Arlington/Roe – Onboarding or Update/Refresher\nOn behalf of Arlington/Roe and the Francis Roe Center for Professional Growth\, we would like to take this opportunity to welcome you and introduce you to the many ways we can work together. \nWhether you are new to Arlington/Roe or would like to take advantage of an update\, this session is a great opportunity to get up to speed. You’ll gain insight into who we are\, how we operate and the best ways to do business with us. \nSix of our experienced underwriters and brokers will be joining us to highlight the types of accounts we write\, share product coverages and benefits\, and offer practical tips and insights to help you navigate opportunities with Arlington/Roe. \nWe look forward to seeing you there and helping you make the most of your partnership with Arlington/Roe! \n Register
URL:https://arlingtonroe.com/event/get-to-know-arlington-roe-onboarding-or-update-refresher-3/
CATEGORIES:Corporate News
LOCATION:https://events.teams.microsoft.com/event/d7e49321-f5ce-40b5-88cc-38c1a3b77bcf@c023bbb1-8a45-49d4-98e6-fea1f7378c2e
END:VEVENT
END:VCALENDAR