BEGIN:VCALENDAR
VERSION:2.0
PRODID:-//Arlington/Roe - ECPv6.15.20//NONSGML v1.0//EN
CALSCALE:GREGORIAN
METHOD:PUBLISH
X-WR-CALNAME:Arlington/Roe
X-ORIGINAL-URL:https://arlingtonroe.com
X-WR-CALDESC:Events for Arlington/Roe
REFRESH-INTERVAL;VALUE=DURATION:PT1H
X-Robots-Tag:noindex
X-PUBLISHED-TTL:PT1H
BEGIN:VTIMEZONE
TZID:America/Indiana/Indianapolis
BEGIN:DAYLIGHT
TZOFFSETFROM:-0500
TZOFFSETTO:-0400
TZNAME:EDT
DTSTART:20240310T070000
END:DAYLIGHT
BEGIN:STANDARD
TZOFFSETFROM:-0400
TZOFFSETTO:-0500
TZNAME:EST
DTSTART:20241103T060000
END:STANDARD
BEGIN:DAYLIGHT
TZOFFSETFROM:-0500
TZOFFSETTO:-0400
TZNAME:EDT
DTSTART:20250309T070000
END:DAYLIGHT
BEGIN:STANDARD
TZOFFSETFROM:-0400
TZOFFSETTO:-0500
TZNAME:EST
DTSTART:20251102T060000
END:STANDARD
BEGIN:DAYLIGHT
TZOFFSETFROM:-0500
TZOFFSETTO:-0400
TZNAME:EDT
DTSTART:20260308T070000
END:DAYLIGHT
BEGIN:STANDARD
TZOFFSETFROM:-0400
TZOFFSETTO:-0500
TZNAME:EST
DTSTART:20261101T060000
END:STANDARD
END:VTIMEZONE
BEGIN:VEVENT
DTSTART;TZID=America/Indiana/Indianapolis:20250910T103000
DTEND;TZID=America/Indiana/Indianapolis:20250910T110000
DTSTAMP:20260422T205120
CREATED:20250812T153001Z
LAST-MODIFIED:20250818T212935Z
UID:10000166-1757500200-1757502000@arlingtonroe.com
SUMMARY:Special Events Made Easy - Arlington/Roe & USLI
DESCRIPTION:Special Events Made Easy – Arlington/Roe & USLI\nFall events are just around the corner. Think pumpkin patches\, fall festivals and concerts\, sporting events\, tradeshows\, and autumn weddings! \nPlease join us for a session discussing some of our most popular fall events\, specialized coverages available and how to write them. \nUSLI currently offers the ability to Quote\, Bind\, and Pay for these events in one simple transaction\, making them an easy go-to product for agents to write more frequently. \n Register
URL:https://arlingtonroe.com/event/special-events-made-easy-arlington-roe-usli/
CATEGORIES:Corporate News
LOCATION:https://usli.webex.com/weblink/register/rd6ffdbdfa20abc632f059b3421f7ff04
END:VEVENT
BEGIN:VEVENT
DTSTART;TZID=America/Indiana/Indianapolis:20250916T110000
DTEND;TZID=America/Indiana/Indianapolis:20250916T120000
DTSTAMP:20260422T205120
CREATED:20250729T155114Z
LAST-MODIFIED:20250729T155222Z
UID:10000164-1758020400-1758024000@arlingtonroe.com
SUMMARY:Package Solutions Built for Agribusiness
DESCRIPTION:Package Solutions Built for Agribusiness\nOn behalf of Arlington/Roe and the Francis Roe Center for Professional Growth\, we invite you to join us for an informative webinar focused on smart\, comprehensive coverage options for today’s agribusiness clients. \nOur Commercial Ag Practice Leader & Senior Broker\, Steve Renihan\, will walk through the package solutions available and how you can better serve this important sector. \nWhat You’ll Learn: We offer admitted package markets with optional coverages tailored to agribusiness operations\, including E&O for agronomy\, seed merchants\, chemical blending\, feed mixing and misapplication/misdelivery. \nTopics Include: \n\nFarm supply\nAg contractors\nAg trucking\nFood products\n\n\nWho Should Attend: Agents who work with agribusiness accounts or want to expand into this evolving and essential market. \nWe look forward to having you attend the event! \n Register
URL:https://arlingtonroe.com/event/package-solutions-built-for-agribusiness/
CATEGORIES:Corporate News
LOCATION:https://events.teams.microsoft.com/event/2c052c7a-ed83-4d0f-ae90-810d193abce6@c023bbb1-8a45-49d4-98e6-fea1f7378c2e
END:VEVENT
BEGIN:VEVENT
DTSTART;TZID=America/Indiana/Indianapolis:20250923T100000
DTEND;TZID=America/Indiana/Indianapolis:20250923T110000
DTSTAMP:20260422T205120
CREATED:20250812T162445Z
LAST-MODIFIED:20250819T124236Z
UID:10000168-1758621600-1758625200@arlingtonroe.com
SUMMARY:American Modern Bootcamp - For New and Existing Users
DESCRIPTION:American Modern Bootcamp – For New and Existing Users\nAre you new to writing with American Modern? Have you been writing with American Modern for a while and need a refresher? This webinar is designed with you in mind. It will provide an overview of American Modern Insurance Group\, including the programs available to you\, such as Dwelling Basic\, Dwelling Special and more. Along with other features and benefits of doing business with American Modern through Arlington/Roe. \n Register
URL:https://arlingtonroe.com/event/american-modern-bootcamp-for-new-and-existing-users-4/
CATEGORIES:Personal Lines
LOCATION:https://americanmodern.webex.com/weblink/register/r03166971b295cb47ddf76e9718c53834
END:VEVENT
BEGIN:VEVENT
DTSTART;TZID=America/Indiana/Indianapolis:20250924T110000
DTEND;TZID=America/Indiana/Indianapolis:20250924T120000
DTSTAMP:20260422T205121
CREATED:20250808T124251Z
LAST-MODIFIED:20250808T124251Z
UID:10000165-1758711600-1758715200@arlingtonroe.com
SUMMARY:Get to Know Arlington/Roe - Onboarding or Update/Refresher
DESCRIPTION:You’re Invited – Get to Know Arlington/Roe – Onboarding or Update/Refresher\nOn behalf of Arlington/Roe and the Francis Roe Center for Professional Growth\, we would like to take this opportunity to welcome you and introduce you to the many ways we can work together. \nWhether you are new to Arlington/Roe or would like to take advantage of an update\, this session is a great opportunity to get up to speed. You’ll gain insight into who we are\, how we operate and the best ways to do business with us. \nPlease join us for an overview of our organization\, as well as learning how to do business with us. This session will cover our various departments and highlight practices\, with six of our experienced A/R underwriters and brokers joining us. \nWe look forward to seeing you there and helping you make the most of your partnership with Arlington/Roe! \n Register
URL:https://arlingtonroe.com/event/get-to-know-arlington-roe-onboarding-or-update-refresher-5/
CATEGORIES:Corporate News
LOCATION:https://events.teams.microsoft.com/event/33709b7c-4305-458e-beea-a735ba48c704@c023bbb1-8a45-49d4-98e6-fea1f7378c2e
END:VEVENT
BEGIN:VEVENT
DTSTART;TZID=America/Indiana/Indianapolis:20250925T140000
DTEND;TZID=America/Indiana/Indianapolis:20250925T150000
DTSTAMP:20260422T205121
CREATED:20250729T154333Z
LAST-MODIFIED:20250729T154439Z
UID:10000163-1758808800-1758812400@arlingtonroe.com
SUMMARY:Commercial Lines Binding vs. Brokerage: What's the Difference & Why It Matters
DESCRIPTION:Commercial Lines Binding vs. Brokerage: What’s the Difference & Why It Matters\nOn behalf of Arlington/Roe and the Francis Roe Center for Professional Growth\, we invite you to join us to learn more about Arlington/Roe’s role in helping you in the commercial insurance marketplace. \nAnna Bax\, Commercial Lines Underwriter\, and Audrey Mertes\, Commercial Senior Broker\, will be discussing: \n\nDistinctions between Commercial Binding and Brokerage business\nWhen and why accounts are placed in one channel over the other\nReal-world examples and practical tips for working with each practice area\n\nWhether you are new to commercial lines or want to sharpen your understanding\, this session will give you helpful insight into how to navigate opportunities and better serve your insureds. \nWe look forward to you joining us and helping you make the most of your partnership with Arlington/Roe! \n Register
URL:https://arlingtonroe.com/event/commercial-lines-binding-vs-brokerage-whats-the-difference-why-it-matters/
CATEGORIES:Corporate News
LOCATION:https://events.teams.microsoft.com/event/7d7d4114-8091-42ed-b705-6acef0ec3642@c023bbb1-8a45-49d4-98e6-fea1f7378c2e
END:VEVENT
BEGIN:VEVENT
DTSTART;TZID=America/Indiana/Indianapolis:20250925T140000
DTEND;TZID=America/Indiana/Indianapolis:20250925T150000
DTSTAMP:20260422T205121
CREATED:20250812T162740Z
LAST-MODIFIED:20250819T125112Z
UID:10000169-1758808800-1758812400@arlingtonroe.com
SUMMARY:American Modern Bootcamp - For New and Existing Users
DESCRIPTION:American Modern Bootcamp – For New and Existing Users\nAre you new to writing with American Modern? Have you been writing with American Modern for a while and need a refresher? This webinar is designed with you in mind. It will provide an overview of American Modern Insurance Group\, including the programs available to you\, such as Dwelling Basic\, Dwelling Special and more. Along with other features and benefits of doing business with American Modern through Arlington/Roe. \n Register
URL:https://arlingtonroe.com/event/american-modern-bootcamp-for-new-and-existing-users-5/
CATEGORIES:Personal Lines
LOCATION:https://americanmodern.webex.com/weblink/register/r5594804f76f675be6f99a63c69cc6257
END:VEVENT
END:VCALENDAR