BEGIN:VCALENDAR
VERSION:2.0
PRODID:-//Arlington/Roe - ECPv6.15.20//NONSGML v1.0//EN
CALSCALE:GREGORIAN
METHOD:PUBLISH
X-ORIGINAL-URL:https://arlingtonroe.com
X-WR-CALDESC:Events for Arlington/Roe
REFRESH-INTERVAL;VALUE=DURATION:PT1H
X-Robots-Tag:noindex
X-PUBLISHED-TTL:PT1H
BEGIN:VTIMEZONE
TZID:America/Indiana/Indianapolis
BEGIN:DAYLIGHT
TZOFFSETFROM:-0500
TZOFFSETTO:-0400
TZNAME:EDT
DTSTART:20240310T070000
END:DAYLIGHT
BEGIN:STANDARD
TZOFFSETFROM:-0400
TZOFFSETTO:-0500
TZNAME:EST
DTSTART:20241103T060000
END:STANDARD
BEGIN:DAYLIGHT
TZOFFSETFROM:-0500
TZOFFSETTO:-0400
TZNAME:EDT
DTSTART:20250309T070000
END:DAYLIGHT
BEGIN:STANDARD
TZOFFSETFROM:-0400
TZOFFSETTO:-0500
TZNAME:EST
DTSTART:20251102T060000
END:STANDARD
BEGIN:DAYLIGHT
TZOFFSETFROM:-0500
TZOFFSETTO:-0400
TZNAME:EDT
DTSTART:20260308T070000
END:DAYLIGHT
BEGIN:STANDARD
TZOFFSETFROM:-0400
TZOFFSETTO:-0500
TZNAME:EST
DTSTART:20261101T060000
END:STANDARD
END:VTIMEZONE
BEGIN:VEVENT
DTSTART;TZID=America/Indiana/Indianapolis:20251002T103000
DTEND;TZID=America/Indiana/Indianapolis:20251002T113000
DTSTAMP:20260422T192220
CREATED:20250829T124148Z
LAST-MODIFIED:20250829T124338Z
UID:10000173-1759401000-1759404600@arlingtonroe.com
SUMMARY:Introducing Our New Specialty & Accident Health (A&H) Practice - Why It Matters!
DESCRIPTION:Introducing Our New Specialty & Accident Health (A&H) Practice – Why It Matters!\nArlington/Roe and the Francis Roe Center for Professional Growth are pleased to introduce our newest Practice Area: Specialty & Accident Health (A&H). \nWe invite you to join us for an informative session led by Todd Tarver\, Practice Leader\, who brings extensive experience and insight into this evolving area of insurance. \nDuring this session\, Todd will provide an engaging overview covering: \n\nAn introduction to Specialty & Accident Health (A&H)\nThe value it offers to you and your clients\nA deeper understanding of “Duty of Care”\nKey product highlights and target markets\n\nThis is a valuable opportunity to explore how A&H solutions can support your clients—not only through insurance coverage but also through risk mitigation services that help reduce liability for policyholders. \nWe look forward to having you join us and learn more about this important offering! \n Register
URL:https://arlingtonroe.com/event/introducing-our-new-specialty-accident-health-ah-practice-why-it-matters/
CATEGORIES:Corporate News
LOCATION:https://events.teams.microsoft.com/event/a40f9cdf-5d47-474a-ac09-41902a567c56@c023bbb1-8a45-49d4-98e6-fea1f7378c2e
END:VEVENT
BEGIN:VEVENT
DTSTART;TZID=America/Indiana/Indianapolis:20251014T113000
DTEND;TZID=America/Indiana/Indianapolis:20251014T121500
DTSTAMP:20260422T192220
CREATED:20251002T145806Z
LAST-MODIFIED:20251002T145806Z
UID:10000175-1760441400-1760444100@arlingtonroe.com
SUMMARY:Explore the New Launch of AMsuite+
DESCRIPTION:Explore the New Launch of AMsuite+\nQuoting\, training\, digital claims\, policy management—AMsuite+ is everything American Modern\, all in one place. A new account is your ticket in the door. \n\nIt’s easier to navigate.\nYou can manage all your American Modern business with one login.\nThe data is even more secure with multi-factor authentication.\n\nYou can learn more about what AMsuite+ has to offer by attending one of our two webinars. By attending\, you’ll be entered into a drawing for a chance to win one of five $50 gift cards. \n Register
URL:https://arlingtonroe.com/event/explore-the-new-launch-of-amsuite/
CATEGORIES:Personal Lines
LOCATION:https://americanmodern.webex.com/weblink/register/r734f42fafc7a6f1c8b05849abedab262
END:VEVENT
BEGIN:VEVENT
DTSTART;TZID=America/Indiana/Indianapolis:20251014T140000
DTEND;TZID=America/Indiana/Indianapolis:20251014T150000
DTSTAMP:20260422T192220
CREATED:20250812T153914Z
LAST-MODIFIED:20250827T124051Z
UID:10000167-1760450400-1760454000@arlingtonroe.com
SUMMARY:Farm and Ranch Coverage Opportunities
DESCRIPTION:Farm and Ranch Coverage Opportunities\nPlease join Arlington/Roe and the Francis Roe Center for an informative session that opens the gate to new business in the farm and ranch space. From small-scale hobby farms to full production operations\, we’ll explore coverage solutions that address both everyday and unique risks. \nYou’ll hear from two of our seasoned Arlington/Roe underwriters in the Farm and Ranch space\, Lisa Wisniewski and Chris Graman\, and walk away with fresh ideas to expand your reach\, strengthen insured relationships and position yourself as the go-to farm and ranch insurance partner. \nSome highlights: \n\nPolicies for gentleman estates\, rural retreats\, and hobby properties\nPackage policies for crop and grain\, livestock\, and dairy operations\nProtection for boarding\, breeding\, training\, riding facilities\, therapeutic programs\, and equine operations\nStable liability and shows\nSolutions for livestock operations\, including poultry and swine confinement\nCoverage for livestock\, feedlots\, and cargo\nAnimal mortality options\, even for working and service dogs\nSolutions for hard-to-place farms\n\nWe look forward to having you attend the event! \n Register
URL:https://arlingtonroe.com/event/farm-and-ranch-coverage-opportunities/
CATEGORIES:Corporate News
LOCATION:https://events.teams.microsoft.com/event/ce1d4797-8b39-4612-9f11-641d718e152d@c023bbb1-8a45-49d4-98e6-fea1f7378c2e
END:VEVENT
BEGIN:VEVENT
DTSTART;TZID=America/Indiana/Indianapolis:20251016T103000
DTEND;TZID=America/Indiana/Indianapolis:20251016T113000
DTSTAMP:20260422T192220
CREATED:20250825T202355Z
LAST-MODIFIED:20250825T202355Z
UID:10000172-1760610600-1760614200@arlingtonroe.com
SUMMARY:Garage 101
DESCRIPTION:Garage 101\nIn today’s ever-changing insurance landscape\, understanding policies and coverages for risks within your communities is important for professionals like yourself. Whether your insured is involved in service\, towing\, or used auto dealers\, this webinar is tailored to equip you with the tools to review risks and understand the array of coverages available. \nChrista Loudin\, a seasoned Arlington/Roe Senior Transportation Underwriter\, and a familiar face in our monthly onboarding/refresher sessions\, will be expanding her presentation\, sharing her wealth of knowledge\, to assist you in writing garage business. \n Register
URL:https://arlingtonroe.com/event/garage-101-3/
CATEGORIES:Corporate News
LOCATION:https://events.teams.microsoft.com/event/946a367c-db9b-4f99-b891-4394238246c1@c023bbb1-8a45-49d4-98e6-fea1f7378c2e
END:VEVENT
BEGIN:VEVENT
DTSTART;TZID=America/Indiana/Indianapolis:20251016T150000
DTEND;TZID=America/Indiana/Indianapolis:20251016T154500
DTSTAMP:20260422T192220
CREATED:20251002T150314Z
LAST-MODIFIED:20251002T150314Z
UID:10000176-1760626800-1760629500@arlingtonroe.com
SUMMARY:Explore the New Launch of AMsuite+
DESCRIPTION:Explore the New Launch of AMsuite+\nQuoting\, training\, digital claims\, policy management—AMsuite+ is everything American Modern\, all in one place. A new account is your ticket in the door. \n\nIt’s easier to navigate.\nYou can manage all your American Modern business with one login.\nThe data is even more secure with multi-factor authentication.\n\nYou can learn more about what AMsuite+ has to offer by attending one of our two webinars. By attending\, you’ll be entered into a drawing for a chance to win one of five $50 gift cards. \n Register
URL:https://arlingtonroe.com/event/explore-the-new-launch-of-amsuite-2/
CATEGORIES:Personal Lines
LOCATION:https://americanmodern.webex.com/weblink/register/rb203f52c85db71fac383d0b04eea4971
END:VEVENT
BEGIN:VEVENT
DTSTART;TZID=America/Indiana/Indianapolis:20251021T120000
DTEND;TZID=America/Indiana/Indianapolis:20251021T130000
DTSTAMP:20260422T192220
CREATED:20250813T134433Z
LAST-MODIFIED:20251007T131933Z
UID:10000171-1761048000-1761051600@arlingtonroe.com
SUMMARY:Active Assailant: Power Hour with PIA of IN - 1 CE Credit
DESCRIPTION:Active Assailant: Power Hour with PIA of IN – 1 CE Credit\nPlease join us for a “Lunch and Learn” with the PIA of IN. We are hosting this webinar as part of the PIA’s new Power Hour webinar series. \nWe will be reviewing what “Active Assailant” events and occurrences are by any other given name. \nThe focus of this webinar is on both the traditional insurance options vs the example of the development of active shooter or DWP\, deadly weapons protection\, in the marketplace. \nThis class is approved for 1 hour of Indiana CE. Anyone may attend\, but only those with an active Indiana P&C licenses will receive credit.  You will receive a link from the PIA of IN one week prior to the webinar. The CE is being offered through the PIA of IN and they will handle the credit. \n*Please note\, attendees can only receive CE once per course during a renewal period. If you have previously taken this course\, please check your transcript on Sircon. \nWe look forward to having you attend the event! \n Register
URL:https://arlingtonroe.com/event/active-assailant-power-hour-with-pia-of-in-1-ce-credit/
CATEGORIES:Corporate News
LOCATION:https://web.piaindiana.com/atlas/events/4625/details
END:VEVENT
BEGIN:VEVENT
DTSTART;TZID=America/Indiana/Indianapolis:20251022T110000
DTEND;TZID=America/Indiana/Indianapolis:20251022T120000
DTSTAMP:20260422T192220
CREATED:20250829T131319Z
LAST-MODIFIED:20250829T131319Z
UID:10000174-1761130800-1761134400@arlingtonroe.com
SUMMARY:Get to Know Arlington/Roe - Onboarding or Update/Refresher
DESCRIPTION:You’re Invited – Get to Know Arlington/Roe – Onboarding or Update/Refresher\nOn behalf of Arlington/Roe and the Francis Roe Center for Professional Growth\, we would like to take this opportunity to welcome you and introduce you to the many ways we can work together. \nWhether you’re new to Arlington/Roe or simply looking for a refresher\, this session is designed to provide a valuable overview. You’ll gain a clear understanding of who we are\, how we operate and the most effective ways to partner with us. \nSix of our seasoned underwriters and brokers will be on hand to highlight the types of accounts we write\, outline key product coverages and benefits and offer practical tips to help you identify and navigate business opportunities with Arlington/Roe. \nWe look forward to your participation and to supporting a strong\, productive partnership! \n Register
URL:https://arlingtonroe.com/event/get-to-know-arlington-roe-onboarding-or-update-refresher-6/
CATEGORIES:Corporate News
LOCATION:https://events.teams.microsoft.com/event/69575a97-6ad2-4f90-b250-9088c39bac4d@c023bbb1-8a45-49d4-98e6-fea1f7378c2e
END:VEVENT
END:VCALENDAR