BEGIN:VCALENDAR
VERSION:2.0
PRODID:-//Arlington/Roe - ECPv6.15.20//NONSGML v1.0//EN
CALSCALE:GREGORIAN
METHOD:PUBLISH
X-ORIGINAL-URL:https://arlingtonroe.com
X-WR-CALDESC:Events for Arlington/Roe
REFRESH-INTERVAL;VALUE=DURATION:PT1H
X-Robots-Tag:noindex
X-PUBLISHED-TTL:PT1H
BEGIN:VTIMEZONE
TZID:America/Indiana/Indianapolis
BEGIN:DAYLIGHT
TZOFFSETFROM:-0500
TZOFFSETTO:-0400
TZNAME:EDT
DTSTART:20220313T070000
END:DAYLIGHT
BEGIN:STANDARD
TZOFFSETFROM:-0400
TZOFFSETTO:-0500
TZNAME:EST
DTSTART:20221106T060000
END:STANDARD
BEGIN:DAYLIGHT
TZOFFSETFROM:-0500
TZOFFSETTO:-0400
TZNAME:EDT
DTSTART:20230312T070000
END:DAYLIGHT
BEGIN:STANDARD
TZOFFSETFROM:-0400
TZOFFSETTO:-0500
TZNAME:EST
DTSTART:20231105T060000
END:STANDARD
BEGIN:DAYLIGHT
TZOFFSETFROM:-0500
TZOFFSETTO:-0400
TZNAME:EDT
DTSTART:20240310T070000
END:DAYLIGHT
BEGIN:STANDARD
TZOFFSETFROM:-0400
TZOFFSETTO:-0500
TZNAME:EST
DTSTART:20241103T060000
END:STANDARD
BEGIN:DAYLIGHT
TZOFFSETFROM:-0500
TZOFFSETTO:-0400
TZNAME:EDT
DTSTART:20250309T070000
END:DAYLIGHT
BEGIN:STANDARD
TZOFFSETFROM:-0400
TZOFFSETTO:-0500
TZNAME:EST
DTSTART:20251102T060000
END:STANDARD
BEGIN:DAYLIGHT
TZOFFSETFROM:-0500
TZOFFSETTO:-0400
TZNAME:EDT
DTSTART:20260308T070000
END:DAYLIGHT
BEGIN:STANDARD
TZOFFSETFROM:-0400
TZOFFSETTO:-0500
TZNAME:EST
DTSTART:20261101T060000
END:STANDARD
END:VTIMEZONE
BEGIN:VTIMEZONE
TZID:UTC
BEGIN:STANDARD
TZOFFSETFROM:+0000
TZOFFSETTO:+0000
TZNAME:UTC
DTSTART:20210101T000000
END:STANDARD
END:VTIMEZONE
BEGIN:VEVENT
DTSTART;TZID=America/Indiana/Indianapolis:20250312T100000
DTEND;TZID=America/Indiana/Indianapolis:20250312T104500
DTSTAMP:20260425T173201
CREATED:20250218T135326Z
LAST-MODIFIED:20250218T135724Z
UID:10000147-1741773600-1741776300@arlingtonroe.com
SUMMARY:Underwriting Referral Tips and Best Practices with American Modern
DESCRIPTION:Underwriting Referral Tips and Best Practices with American Modern\nThis 45-minute webinar demonstration will walk through the process of referring a quote requiring review to your Underwriting authority. We will also take a look at the specific reasons for the Underwriting review. This webinar will cover the process from referral to issuance from a new business quote. \nArlington/Roe’s valued partnership with American Modern includes the bonus of having great training resources available. This allows us to share important product information and training with our agents. \n Register
URL:https://arlingtonroe.com/event/underwriting-referral-tips-and-best-practices-with-american-modern-031225/
CATEGORIES:Personal Lines
LOCATION:https://americanmodern.webex.com/weblink/register/r0dd58c16cbcea4180db9e58d2cff9a39
END:VEVENT
BEGIN:VEVENT
DTSTART;TZID=America/Indiana/Indianapolis:20250306T140000
DTEND;TZID=America/Indiana/Indianapolis:20250306T143000
DTSTAMP:20260425T173201
CREATED:20250218T134627Z
LAST-MODIFIED:20250218T144254Z
UID:10000146-1741269600-1741271400@arlingtonroe.com
SUMMARY:Social-to-Go with American Modern
DESCRIPTION:Social-to-Go with American Modern\nThis session will talk about social content\, how-to tips\, and helpful information created for you to share with your customers across all their social platforms. Come learn how to get social today! \nArlington/Roe’s valued partnership with American Modern includes the bonus of having great training resources available. This allows us to share important product information and training with our agents. \n Register
URL:https://arlingtonroe.com/event/social-to-go-030625/
CATEGORIES:Personal Lines
LOCATION:https://americanmodern.webex.com/weblink/register/rd66911afb3131d8fe202c7df0ee9eb38
END:VEVENT
BEGIN:VEVENT
DTSTART;TZID=America/Indiana/Indianapolis:20250304T100000
DTEND;TZID=America/Indiana/Indianapolis:20250304T103000
DTSTAMP:20260425T173201
CREATED:20250218T133719Z
LAST-MODIFIED:20250218T145858Z
UID:10000145-1741082400-1741084200@arlingtonroe.com
SUMMARY:American Modern Dwelling Basic vs Dwelling Special
DESCRIPTION:American Modern Dwelling Basic vs Dwelling Special\nThis 30-minute webinar will review American Modern’s Dwelling Basic and Dwelling Special products. We will discuss coverages\, program features and eligibility\, and the differences between these offerings. \nArlington/Roe’s valued partnership with American Modern includes the added bonus of having great training resources available. This allows us to share important product information and training with our agents. \n Register
URL:https://arlingtonroe.com/event/dwelling-basic-vs-dwelling-special-030425/
CATEGORIES:Personal Lines
LOCATION:https://americanmodern.webex.com/weblink/register/rc2daae4115656162f67a313092ae02a9
END:VEVENT
BEGIN:VEVENT
DTSTART;TZID=America/Indiana/Indianapolis:20230216T140000
DTEND;TZID=America/Indiana/Indianapolis:20230216T150000
DTSTAMP:20260425T173202
CREATED:20230201T140147Z
LAST-MODIFIED:20230201T191819Z
UID:10000005-1676556000-1676559600@arlingtonroe.com
SUMMARY:American Modern Manufactured Home
DESCRIPTION:This webinar will provide a comprehensive overview of American Modern’s Manufactured Home program and how to write this type of business. \nRegister here.
URL:https://arlingtonroe.com/event/american-modern-manufactured-home-6/
CATEGORIES:Personal Lines
LOCATION:
END:VEVENT
BEGIN:VEVENT
DTSTART;TZID=America/Indiana/Indianapolis:20230214T100000
DTEND;TZID=America/Indiana/Indianapolis:20230214T110000
DTSTAMP:20260425T173202
CREATED:20230201T135536Z
LAST-MODIFIED:20230201T191900Z
UID:10000004-1676368800-1676372400@arlingtonroe.com
SUMMARY:American Modern Manufactured Home
DESCRIPTION:This webinar will provide a comprehensive overview of American Modern’s Manufactured Home program and how to write this type of business. \nRegister here.
URL:https://arlingtonroe.com/event/american-modern-manufactured-home-5/
CATEGORIES:Personal Lines
LOCATION:
END:VEVENT
BEGIN:VEVENT
DTSTART;TZID=UTC:20221103T140000
DTEND;TZID=UTC:20221103T150000
DTSTAMP:20260425T173202
CREATED:20220303T135019Z
LAST-MODIFIED:20220329T125947Z
UID:10000014-1667484000-1667487600@arlingtonroe.com
SUMMARY:American Modern Advanced AMsuite & AMsuite vs. Core
DESCRIPTION:This training will provide an overview of the advanced features of AMsuite. This training will provide an overview of the differences and advantages of AMsuite and AMsuite Core. \nRegister here
URL:https://arlingtonroe.com/event/american-modern-advanced-amsuite-amsuite-vs-core-4/
CATEGORIES:Personal Lines
LOCATION:https://arlingtonroe.com/event/american-modern-advanced-amsuite-amsuite-vs-core-4/
END:VEVENT
BEGIN:VEVENT
DTSTART;TZID=UTC:20220615T100000
DTEND;TZID=UTC:20220615T110000
DTSTAMP:20260425T173202
CREATED:20220328T140732Z
LAST-MODIFIED:20220329T144740Z
UID:10000012-1655287200-1655290800@arlingtonroe.com
SUMMARY:American Modern Bootcamp - For New and Existing Users
DESCRIPTION:This webinar will provide an overview of American Modern Insurance Group\, the programs you have available\, and other features and benefits of doing business with American Modern. \nRegister Here
URL:https://arlingtonroe.com/event/american-modern-bootcamp-for-new-and-existing-users-2/
CATEGORIES:Personal Lines
LOCATION:https://arlingtonroe.com/event/american-modern-bootcamp-for-new-and-existing-users-2/
END:VEVENT
BEGIN:VEVENT
DTSTART;TZID=UTC:20220407T140000
DTEND;TZID=UTC:20220407T150000
DTSTAMP:20260425T173202
CREATED:20220215T174924Z
LAST-MODIFIED:20220329T135759Z
UID:10000037-1649340000-1649343600@arlingtonroe.com
SUMMARY:American Modern Boat & Yacht Programs and Processing
DESCRIPTION:This webinar will provide an overview of the AMsuite Recreational Programs Boat & Yacht and how to process that business in AMsuite. \nLearn about insuring vessels up to 26 feet in length in the Boat program\, and larger vessels in the Yacht program. Most boat types are eligible\, including antiques and personal watercraft. \nRegister Here
URL:https://arlingtonroe.com/event/american-modern-boat-yacht-programs-and-processing/
CATEGORIES:Personal Lines
LOCATION:https://arlingtonroe.com/event/american-modern-boat-yacht-programs-and-processing/
END:VEVENT
END:VCALENDAR